FILENAME: O4810902.SWS.1119723.tif
QUADRANGLE_NAME: CREEDMAN COULEE WEST
QUADRANT: SW
WEST_LONGITUDE: -109 52 30.00000
EAST_LONGITUDE: -109 48 45.00000
NORTH_LATITUDE: 48 56 15.00000
SOUTH_LATITUDE: 48 52 30.00000
PRODUCTION_DATE: 2000 10 25
RASTER_ORDER: LEFT_RIGHT/TOP_BOTTOM
BAND_ORGANIZATION: SINGLE FILE
BAND_CONTENT: BLACK&WHITE
BAND_CONTENT: UNDEFINED
BAND_CONTENT: UNDEFINED
BITS_PER_PIXEL: 8
SAMPLES_AND_LINES: 5344 7620
HORIZONTAL_DATUM: NAD83
HORIZONTAL_COORDINATE_SYSTEM: UTM
COORDINATE_ZONE: 12
HORIZONTAL_UNITS: METERS
HORIZONTAL_RESOLUTION: 1.00000
SECONDARY_HORIZONTAL_DATUM: NAD27
XY_ORIGIN: 582031.00000 5421488.00000
SECONDARY_XY_ORIGIN: 582088.91300 5421268.93300
NATION: US
NATION: "SCIENCE
STATE: MT
NW_QUAD_CORNER_XY: 582387.53000 5421117.88500
NE_QUAD_CORNER_XY: 586964.52800 5421187.53800
SE_QUAD_CORNERY_XY: 587073.06100 5414240.02400
SW_QUAD_CORNER_XY: 582490.35000 5414170.35100
SECONDARY_NW_QUAD_XY: 582390.17200 5420898.89600
SECONDARY_NE_QUAD_XY: 586967.31700 5420968.55100
SECONDARY_SE_QUAD_XY: 587075.85100 5414021.04000
SECONDARY_SW_QUAD_XY: 582492.99200 5413951.36400
RMSE_XY: 1.40000
IMAGE_SOURCE: BLACK AND WHITE FILM
SOURCE_IMAGE_ID: NAPP 9128 218
SOURCE_IMAGE_DATE: 1996 07 29
SOURCE_DEM_DATE: 1993 00 00
AGENCY: WESTERN MAPPING CENTER (WMC)
PRODUCER: UNDEFINED
PRODUCTION_SYSTEM: GIS/MAGIC
COMPRESSION: UNDEFINED
STANDARD_VERSION: 1996 12
METADATA_DATE: 2000 11 30
DATA_FILE_SIZE: 40726624
BYTE_COUNT: 5344
