FILENAME: O4810902.NES.1119727.tif
QUADRANGLE_NAME: CREEDMAN COULEE WEST
QUADRANT: NE
WEST_LONGITUDE: -109 48 45.00000
EAST_LONGITUDE: -109 45 0.00000
NORTH_LATITUDE: 49 0 0.00000
SOUTH_LATITUDE: 48 56 15.00000
PRODUCTION_DATE: 2000 11 1
RASTER_ORDER: LEFT_RIGHT/TOP_BOTTOM
BAND_ORGANIZATION: SINGLE FILE
BAND_CONTENT: BLACK&WHITE
BAND_CONTENT: UNDEFINED
BAND_CONTENT: UNDEFINED
BITS_PER_PIXEL: 8
SAMPLES_AND_LINES: 5344 7624
HORIZONTAL_DATUM: NAD83
HORIZONTAL_COORDINATE_SYSTEM: UTM
COORDINATE_ZONE: 12
HORIZONTAL_UNITS: METERS
HORIZONTAL_RESOLUTION: 1.00000
SECONDARY_HORIZONTAL_DATUM: NAD27
XY_ORIGIN: 586499.00000 5428509.00000
SECONDARY_XY_ORIGIN: 586556.72200 5428289.85000
NATION: US
NATION: CA
NATION: "SCIENCE
STATE: MT
NW_QUAD_CORNER_XY: 586855.89000 5428135.12400
NE_QUAD_CORNER_XY: 591427.15500 5428208.52000
SE_QUAD_CORNERY_XY: 591541.51200 5421260.95600
SW_QUAD_CORNER_XY: 586964.52800 5421187.53800
SECONDARY_NW_QUAD_XY: 586858.68000 5427916.13500
SECONDARY_NE_QUAD_XY: 591430.09100 5427989.53400
SECONDARY_SE_QUAD_XY: 591544.44800 5421041.97200
SECONDARY_SW_QUAD_XY: 586967.31700 5420968.55100
RMSE_XY: 1.40000
IMAGE_SOURCE: BLACK AND WHITE FILM
SOURCE_IMAGE_ID: NAPP 9128 101
SOURCE_IMAGE_DATE: 1996 07 29
SOURCE_DEM_DATE: 1993 00 00
AGENCY: WESTERN MAPPING CENTER (WMC)
PRODUCER: UNDEFINED
PRODUCTION_SYSTEM: GIS/MAGIC
COMPRESSION: UNDEFINED
STANDARD_VERSION: 1996 12
METADATA_DATE: 2000 11 30
DATA_FILE_SIZE: 40748000
BYTE_COUNT: 5344
