FILENAME: O4810905.NES.1119832.tif
QUADRANGLE_NAME: NORTH CHINOOK RESERVOIR NW
QUADRANT: NE
WEST_LONGITUDE: -109 26 15.00000
EAST_LONGITUDE: -109 22 30.00000
NORTH_LATITUDE: 49 0 0.00000
SOUTH_LATITUDE: 48 56 15.00000
PRODUCTION_DATE: 2000 11 5
RASTER_ORDER: LEFT_RIGHT/TOP_BOTTOM
BAND_ORGANIZATION: SINGLE FILE
BAND_CONTENT: BLACK&WHITE
BAND_CONTENT: UNDEFINED
BAND_CONTENT: UNDEFINED
BITS_PER_PIXEL: 8
SAMPLES_AND_LINES: 5377 7646
HORIZONTAL_DATUM: NAD83
HORIZONTAL_COORDINATE_SYSTEM: UTM
COORDINATE_ZONE: 12
HORIZONTAL_UNITS: METERS
HORIZONTAL_RESOLUTION: 1.00000
SECONDARY_HORIZONTAL_DATUM: NAD27
XY_ORIGIN: 613928.00000 5429028.00000
SECONDARY_XY_ORIGIN: 613985.33600 5428809.05300
NATION: US
NATION: "SCIENCE
STATE: MT
NW_QUAD_CORNER_XY: 614283.23900 5428631.97800
NE_QUAD_CORNER_XY: 618854.40300 5428727.96600
SE_QUAD_CORNERY_XY: 619003.08000 5421780.55800
SW_QUAD_CORNER_XY: 614426.19600 5421684.54100
SECONDARY_NW_QUAD_XY: 614286.91000 5428413.00500
SECONDARY_NE_QUAD_XY: 618858.22000 5428508.99600
SECONDARY_SE_QUAD_XY: 619006.89700 5421561.59100
SECONDARY_SW_QUAD_XY: 614429.86600 5421465.57100
RMSE_XY: 1.10000
IMAGE_SOURCE: BLACK AND WHITE FILM
SOURCE_IMAGE_ID: NAPP 9156 112
SOURCE_IMAGE_DATE: 1997 08 29
SOURCE_DEM_DATE: 1993 00 00
AGENCY: WESTERN MAPPING CENTER (WMC)
PRODUCER: UNDEFINED
PRODUCTION_SYSTEM: GIS/MAGIC
COMPRESSION: UNDEFINED
STANDARD_VERSION: 1996 12
METADATA_DATE: 2000 12 21
DATA_FILE_SIZE: 41117919
BYTE_COUNT: 5377
