FILENAME: O4810906.SES.1115693.tif
QUADRANGLE_NAME: NORTH CHINOOK RESERVOIR NE
QUADRANT: SE
WEST_LONGITUDE: -109 18 45.00000
EAST_LONGITUDE: -109 15 0.00000
NORTH_LATITUDE: 48 56 15.00000
SOUTH_LATITUDE: 48 52 30.00000
PRODUCTION_DATE: 2000 10 30
RASTER_ORDER: LEFT_RIGHT/TOP_BOTTOM
BAND_ORGANIZATION: SINGLE FILE
BAND_CONTENT: BLACK&WHITE
BAND_CONTENT: UNDEFINED
BAND_CONTENT: UNDEFINED
BITS_PER_PIXEL: 8
SAMPLES_AND_LINES: 5393 7654
HORIZONTAL_DATUM: NAD83
HORIZONTAL_COORDINATE_SYSTEM: UTM
COORDINATE_ZONE: 12
HORIZONTAL_UNITS: METERS
HORIZONTAL_RESOLUTION: 1.00000
SECONDARY_HORIZONTAL_DATUM: NAD27
XY_ORIGIN: 623225.00000 5422284.00000
SECONDARY_XY_ORIGIN: 623282.28100 5422065.14100
NATION: US
NATION: "SCIENCE
STATE: MT
NW_QUAD_CORNER_XY: 623579.94500 5421880.34200
NE_QUAD_CORNER_XY: 628156.79000 5421983.89300
SE_QUAD_CORNERY_XY: 628316.75500 5415036.61600
SW_QUAD_CORNER_XY: 623734.19500 5414933.03400
SECONDARY_NW_QUAD_XY: 623583.90900 5421661.37800
SECONDARY_NE_QUAD_XY: 628160.90100 5421764.93200
SECONDARY_SE_QUAD_XY: 628320.86600 5414817.65700
SECONDARY_SW_QUAD_XY: 623738.15900 5414714.07200
RMSE_XY: 1.70000
IMAGE_SOURCE: BLACK AND WHITE FILM
SOURCE_IMAGE_ID: NAPP 9145 069
SOURCE_IMAGE_DATE: 1996 08 25
SOURCE_DEM_DATE: 1993 00 00
AGENCY: WESTERN MAPPING CENTER (WMC)
PRODUCER: UNDEFINED
PRODUCTION_SYSTEM: GIS/MAGIC
COMPRESSION: UNDEFINED
STANDARD_VERSION: 1996 12
METADATA_DATE: 2000 11 29
DATA_FILE_SIZE: 41283415
BYTE_COUNT: 5393
