FILENAME: O4810906.NES.1115691.tif
QUADRANGLE_NAME: NORTH CHINOOK RESERVOIR NE
QUADRANT: NE
WEST_LONGITUDE: -109 18 45.00000
EAST_LONGITUDE: -109 15 0.00000
NORTH_LATITUDE: 49 0 0.00000
SOUTH_LATITUDE: 48 56 15.00000
PRODUCTION_DATE: 2000 11 7
RASTER_ORDER: LEFT_RIGHT/TOP_BOTTOM
BAND_ORGANIZATION: SINGLE FILE
BAND_CONTENT: BLACK&WHITE
BAND_CONTENT: UNDEFINED
BAND_CONTENT: UNDEFINED
BITS_PER_PIXEL: 8
SAMPLES_AND_LINES: 5387 7654
HORIZONTAL_DATUM: NAD83
HORIZONTAL_COORDINATE_SYSTEM: UTM
COORDINATE_ZONE: 12
HORIZONTAL_UNITS: METERS
HORIZONTAL_RESOLUTION: 1.00000
SECONDARY_HORIZONTAL_DATUM: NAD27
XY_ORIGIN: 623071.00000 5429232.00000
SECONDARY_XY_ORIGIN: 623128.11200 5429012.96000
NATION: US
NATION: CA
NATION: "SCIENCE
STATE: MT
NW_QUAD_CORNER_XY: 623425.54700 5428827.72000
NE_QUAD_CORNER_XY: 627996.67000 5428931.23900
SE_QUAD_CORNERY_XY: 628156.79000 5421983.89300
SW_QUAD_CORNER_XY: 623579.94500 5421880.34200
SECONDARY_NW_QUAD_XY: 623429.51100 5428608.75300
SECONDARY_NE_QUAD_XY: 628000.78100 5428712.27700
SECONDARY_SE_QUAD_XY: 628160.90100 5421764.93200
SECONDARY_SW_QUAD_XY: 623583.90900 5421661.37800
RMSE_XY: 1.40000
IMAGE_SOURCE: BLACK AND WHITE FILM
SOURCE_IMAGE_ID: NAPP 9145 067
SOURCE_IMAGE_DATE: 1996 08 25
SOURCE_DEM_DATE: 1993 00 00
AGENCY: WESTERN MAPPING CENTER (WMC)
PRODUCER: UNDEFINED
PRODUCTION_SYSTEM: GIS/MAGIC
COMPRESSION: UNDEFINED
STANDARD_VERSION: 1996 12
METADATA_DATE: 2000 11 29
DATA_FILE_SIZE: 41237485
BYTE_COUNT: 5387
