FILENAME: O4810907.NWS.1115716.tif
QUADRANGLE_NAME: RICHMOND RESERVOIR NW
QUADRANT: NW
WEST_LONGITUDE: -109 15 0.00000
EAST_LONGITUDE: -109 11 15.00000
NORTH_LATITUDE: 49 0 0.00000
SOUTH_LATITUDE: 48 56 15.00000
PRODUCTION_DATE: 2000 11 5
RASTER_ORDER: LEFT_RIGHT/TOP_BOTTOM
BAND_ORGANIZATION: SINGLE FILE
BAND_CONTENT: BLACK&WHITE
BAND_CONTENT: UNDEFINED
BAND_CONTENT: UNDEFINED
BITS_PER_PIXEL: 8
SAMPLES_AND_LINES: 5393 7658
HORIZONTAL_DATUM: NAD83
HORIZONTAL_COORDINATE_SYSTEM: UTM
COORDINATE_ZONE: 12
HORIZONTAL_UNITS: METERS
HORIZONTAL_RESOLUTION: 1.00000
SECONDARY_HORIZONTAL_DATUM: NAD27
XY_ORIGIN: 627642.00000 5429339.00000
SECONDARY_XY_ORIGIN: 627698.99500 5429119.91300
NATION: US
NATION: CA
NATION: "SCIENCE
STATE: MT
NW_QUAD_CORNER_XY: 627996.67000 5428931.23900
NE_QUAD_CORNER_XY: 632567.77300 5429038.52600
SE_QUAD_CORNERY_XY: 632733.61400 5422091.21200
SW_QUAD_CORNER_XY: 628156.79000 5421983.89300
SECONDARY_NW_QUAD_XY: 628000.78100 5428712.27700
SECONDARY_NE_QUAD_XY: 632572.03100 5428819.56600
SECONDARY_SE_QUAD_XY: 632737.87100 5421872.25400
SECONDARY_SW_QUAD_XY: 628160.90100 5421764.93200
RMSE_XY: 1.20000
IMAGE_SOURCE: BLACK AND WHITE FILM
SOURCE_IMAGE_ID: NAPP 9145 062
SOURCE_IMAGE_DATE: 1996 08 25
SOURCE_DEM_DATE: 1992 00 00
AGENCY: WESTERN MAPPING CENTER (WMC)
PRODUCER: UNDEFINED
PRODUCTION_SYSTEM: GIS/MAGIC
COMPRESSION: UNDEFINED
STANDARD_VERSION: 1996 12
METADATA_DATE: 2000 11 29
DATA_FILE_SIZE: 41304987
BYTE_COUNT: 5393
