FILENAME: O4810908.NWS.1115740.tif
QUADRANGLE_NAME: RICHMOND RESERVOIR NE
QUADRANT: NW
WEST_LONGITUDE: -109 7 30.00000
EAST_LONGITUDE: -109 3 45.00000
NORTH_LATITUDE: 49 0 0.00000
SOUTH_LATITUDE: 48 56 15.00000
PRODUCTION_DATE: 2000 11 5
RASTER_ORDER: LEFT_RIGHT/TOP_BOTTOM
BAND_ORGANIZATION: SINGLE FILE
BAND_CONTENT: BLACK&WHITE
BAND_CONTENT: UNDEFINED
BAND_CONTENT: UNDEFINED
BITS_PER_PIXEL: 8
SAMPLES_AND_LINES: 5404 7665
HORIZONTAL_DATUM: NAD83
HORIZONTAL_COORDINATE_SYSTEM: UTM
COORDINATE_ZONE: 12
HORIZONTAL_UNITS: METERS
HORIZONTAL_RESOLUTION: 1.00000
SECONDARY_HORIZONTAL_DATUM: NAD27
XY_ORIGIN: 636785.00000 5429565.00000
SECONDARY_XY_ORIGIN: 636841.75700 5429346.03900
NATION: US
NATION: CA
NATION: "SCIENCE
STATE: MT
NW_QUAD_CORNER_XY: 637138.85300 5429149.57800
NE_QUAD_CORNER_XY: 641709.91100 5429264.39700
SE_QUAD_CORNERY_XY: 641887.19600 5422317.15200
SW_QUAD_CORNER_XY: 637310.41600 5422202.29800
SECONDARY_NW_QUAD_XY: 637143.25800 5428930.62200
SECONDARY_NE_QUAD_XY: 641714.46300 5429045.44500
SECONDARY_SE_QUAD_XY: 641891.74800 5422098.20100
SECONDARY_SW_QUAD_XY: 637314.82100 5421983.34400
RMSE_XY: 1.50000
IMAGE_SOURCE: BLACK AND WHITE FILM
SOURCE_IMAGE_ID: NAPP 9145 148
SOURCE_IMAGE_DATE: 1996 08 25
SOURCE_DEM_DATE: 1975 00 00
AGENCY: WESTERN MAPPING CENTER (WMC)
PRODUCER: UNDEFINED
PRODUCTION_SYSTEM: GIS/MAGIC
COMPRESSION: UNDEFINED
STANDARD_VERSION: 1996 12
METADATA_DATE: 2000 11 29
DATA_FILE_SIZE: 41427064
BYTE_COUNT: 5404
