FILENAME: O4810910.NWS.1119725.tif
QUADRANGLE_NAME: HILLDALE COLONY
QUADRANT: NW
WEST_LONGITUDE: -109 52 30.00000
EAST_LONGITUDE: -109 48 45.00000
NORTH_LATITUDE: 48 52 30.00000
SOUTH_LATITUDE: 48 48 45.00000
PRODUCTION_DATE: 2000 10 25
RASTER_ORDER: LEFT_RIGHT/TOP_BOTTOM
BAND_ORGANIZATION: SINGLE FILE
BAND_CONTENT: BLACK&WHITE
BAND_CONTENT: UNDEFINED
BAND_CONTENT: UNDEFINED
BITS_PER_PIXEL: 8
SAMPLES_AND_LINES: 5350 7621
HORIZONTAL_DATUM: NAD83
HORIZONTAL_COORDINATE_SYSTEM: UTM
COORDINATE_ZONE: 12
HORIZONTAL_UNITS: METERS
HORIZONTAL_RESOLUTION: 1.00000
SECONDARY_HORIZONTAL_DATUM: NAD27
XY_ORIGIN: 582133.00000 5414541.00000
SECONDARY_XY_ORIGIN: 582191.08600 5414322.14900
NATION: US
NATION: "SCIENCE
STATE: MT
NW_QUAD_CORNER_XY: 582490.35000 5414170.35100
NE_QUAD_CORNER_XY: 587073.06100 5414240.02400
SE_QUAD_CORNERY_XY: 587181.49000 5407292.58300
SW_QUAD_CORNER_XY: 582593.07100 5407222.88900
SECONDARY_NW_QUAD_XY: 582492.99200 5413951.36400
SECONDARY_NE_QUAD_XY: 587075.85100 5414021.04000
SECONDARY_SE_QUAD_XY: 587184.28000 5407073.60200
SECONDARY_SW_QUAD_XY: 582595.71300 5407003.90600
RMSE_XY: 1.40000
IMAGE_SOURCE: BLACK AND WHITE FILM
SOURCE_IMAGE_ID: NAPP 9128 216
SOURCE_IMAGE_DATE: 1996 07 29
SOURCE_DEM_DATE: 1993 00 00
AGENCY: WESTERN MAPPING CENTER (WMC)
PRODUCER: UNDEFINED
PRODUCTION_SYSTEM: GIS/MAGIC
COMPRESSION: UNDEFINED
STANDARD_VERSION: 1996 12
METADATA_DATE: 2000 11 30
DATA_FILE_SIZE: 40777700
BYTE_COUNT: 5350
