FILENAME: O4810912.SWS.1119805.tif
QUADRANGLE_NAME: LAKE THIBADEAU
QUADRANT: SW
WEST_LONGITUDE: -109 37 30.00000
EAST_LONGITUDE: -109 33 45.00000
NORTH_LATITUDE: 48 48 45.00000
SOUTH_LATITUDE: 48 45 0.00000
PRODUCTION_DATE: 2000 10 25
RASTER_ORDER: LEFT_RIGHT/TOP_BOTTOM
BAND_ORGANIZATION: SINGLE FILE
BAND_CONTENT: BLACK&WHITE
BAND_CONTENT: UNDEFINED
BAND_CONTENT: UNDEFINED
BITS_PER_PIXEL: 8
SAMPLES_AND_LINES: 5378 7636
HORIZONTAL_DATUM: NAD83
HORIZONTAL_COORDINATE_SYSTEM: UTM
COORDINATE_ZONE: 12
HORIZONTAL_UNITS: METERS
HORIZONTAL_RESOLUTION: 1.00000
SECONDARY_HORIZONTAL_DATUM: NAD27
XY_ORIGIN: 600590.00000 5407910.00000
SECONDARY_XY_ORIGIN: 600648.14100 5407691.44200
NATION: US
NATION: "SCIENCE
STATE: MT
NW_QUAD_CORNER_XY: 600946.66500 5407524.27200
NE_QUAD_CORNER_XY: 605535.02600 5407609.03900
SE_QUAD_CORNERY_XY: 605666.16200 5400661.76100
SW_QUAD_CORNER_XY: 601072.09800 5400576.97000
SECONDARY_NW_QUAD_XY: 600949.89500 5407305.29900
SECONDARY_NE_QUAD_XY: 605538.40200 5407390.06800
SECONDARY_SE_QUAD_XY: 605669.53900 5400442.79400
SECONDARY_SW_QUAD_XY: 601075.32800 5400358.00100
RMSE_XY: 1.40000
IMAGE_SOURCE: BLACK AND WHITE FILM
SOURCE_IMAGE_ID: NAPP 9159 175
SOURCE_IMAGE_DATE: 1997 09 22
SOURCE_DEM_DATE: 1993 00 00
AGENCY: WESTERN MAPPING CENTER (WMC)
PRODUCER: UNDEFINED
PRODUCTION_SYSTEM: GIS/MAGIC
COMPRESSION: UNDEFINED
STANDARD_VERSION: 1996 12
METADATA_DATE: 2000 12 21
DATA_FILE_SIZE: 41071786
BYTE_COUNT: 5378
