FILENAME: O4810914.SWS.1115682.tif
QUADRANGLE_NAME: NORTH CHINOOK RESERVOIR
QUADRANT: SW
WEST_LONGITUDE: -109 22 30.00000
EAST_LONGITUDE: -109 18 45.00000
NORTH_LATITUDE: 48 48 45.00000
SOUTH_LATITUDE: 48 45 0.00000
PRODUCTION_DATE: 2000 10 30
RASTER_ORDER: LEFT_RIGHT/TOP_BOTTOM
BAND_ORGANIZATION: SINGLE FILE
BAND_CONTENT: BLACK&WHITE
BAND_CONTENT: UNDEFINED
BAND_CONTENT: UNDEFINED
BITS_PER_PIXEL: 8
SAMPLES_AND_LINES: 5399 7650
HORIZONTAL_DATUM: NAD83
HORIZONTAL_COORDINATE_SYSTEM: UTM
COORDINATE_ZONE: 12
HORIZONTAL_UNITS: METERS
HORIZONTAL_RESOLUTION: 1.00000
SECONDARY_HORIZONTAL_DATUM: NAD27
XY_ORIGIN: 618945.00000 5408286.00000
SECONDARY_XY_ORIGIN: 619002.74200 5408067.48000
NATION: US
NATION: "SCIENCE
STATE: MT
NW_QUAD_CORNER_XY: 619300.00600 5407885.95200
NE_QUAD_CORNER_XY: 623888.29600 5407985.79500
SE_QUAD_CORNERY_XY: 624042.24900 5401038.62500
SW_QUAD_CORNER_XY: 619448.25400 5400938.75300
SECONDARY_NW_QUAD_XY: 619303.82300 5407666.99000
SECONDARY_NE_QUAD_XY: 623892.26000 5407766.83600
SECONDARY_SE_QUAD_XY: 624046.21300 5400819.67000
SECONDARY_SW_QUAD_XY: 619452.07200 5400719.79600
RMSE_XY: 1.50000
IMAGE_SOURCE: BLACK AND WHITE FILM
SOURCE_IMAGE_ID: NAPP 9156 101
SOURCE_IMAGE_DATE: 1997 08 29
SOURCE_DEM_DATE: 1993 00 00
AGENCY: WESTERN MAPPING CENTER (WMC)
PRODUCER: UNDEFINED
PRODUCTION_SYSTEM: GIS/MAGIC
COMPRESSION: UNDEFINED
STANDARD_VERSION: 1996 12
METADATA_DATE: 2000 11 10
DATA_FILE_SIZE: 41307749
BYTE_COUNT: 5399
