FILENAME: O4810917.SWS.1115155.tif
QUADRANGLE_NAME: KIEHNS COULEE
QUADRANT: SW
WEST_LONGITUDE: -110 0 0.00000
EAST_LONGITUDE: -109 56 15.00000
NORTH_LATITUDE: 48 41 15.00000
SOUTH_LATITUDE: 48 37 30.00000
PRODUCTION_DATE: 2000 10 24
RASTER_ORDER: LEFT_RIGHT/TOP_BOTTOM
BAND_ORGANIZATION: SINGLE FILE
BAND_CONTENT: BLACK&WHITE
BAND_CONTENT: UNDEFINED
BAND_CONTENT: UNDEFINED
BITS_PER_PIXEL: 8
SAMPLES_AND_LINES: 5356 7614
HORIZONTAL_DATUM: NAD83
HORIZONTAL_COORDINATE_SYSTEM: UTM
COORDINATE_ZONE: 12
HORIZONTAL_UNITS: METERS
HORIZONTAL_RESOLUTION: 1.00000
SECONDARY_HORIZONTAL_DATUM: NAD27
XY_ORIGIN: 573241.00000 5393563.00000
SECONDARY_XY_ORIGIN: 573299.49700 5393344.79800
NATION: US
NATION: "SCIENCE
STATE: MT
NW_QUAD_CORNER_XY: 573598.54000 5393200.02900
NE_QUAD_CORNER_XY: 578198.38400 5393262.22200
SE_QUAD_CORNERY_XY: 578295.11600 5386314.96000
SW_QUAD_CORNER_XY: 573689.58100 5386252.75000
SECONDARY_NW_QUAD_XY: 573600.88900 5392981.05100
SECONDARY_NE_QUAD_XY: 578200.87900 5393043.24600
SECONDARY_SE_QUAD_XY: 578297.61100 5386095.99100
SECONDARY_SW_QUAD_XY: 573691.93000 5386033.77800
RMSE_XY: 1.30000
IMAGE_SOURCE: BLACK AND WHITE FILM
SOURCE_IMAGE_ID: NAPP 9158 039
SOURCE_IMAGE_DATE: 1997 09 04
SOURCE_DEM_DATE: 1969 00 00
AGENCY: WESTERN MAPPING CENTER (WMC)
PRODUCER: UNDEFINED
PRODUCTION_SYSTEM: GIS/MAGIC
COMPRESSION: UNDEFINED
STANDARD_VERSION: 1996 12
METADATA_DATE: 2000 11 29
DATA_FILE_SIZE: 40785940
BYTE_COUNT: 5356
