FILENAME: O4810917.SES.1115154.tif
QUADRANGLE_NAME: KIEHNS COULEE
QUADRANT: SE
WEST_LONGITUDE: -109 56 15.00000
EAST_LONGITUDE: -109 52 30.00000
NORTH_LATITUDE: 48 41 15.00000
SOUTH_LATITUDE: 48 37 30.00000
PRODUCTION_DATE: 2000 10 25
RASTER_ORDER: LEFT_RIGHT/TOP_BOTTOM
BAND_ORGANIZATION: SINGLE FILE
BAND_CONTENT: BLACK&WHITE
BAND_CONTENT: UNDEFINED
BAND_CONTENT: UNDEFINED
BITS_PER_PIXEL: 8
SAMPLES_AND_LINES: 5361 7618
HORIZONTAL_DATUM: NAD83
HORIZONTAL_COORDINATE_SYSTEM: UTM
COORDINATE_ZONE: 12
HORIZONTAL_UNITS: METERS
HORIZONTAL_RESOLUTION: 1.00000
SECONDARY_HORIZONTAL_DATUM: NAD27
XY_ORIGIN: 577841.00000 5393629.00000
SECONDARY_XY_ORIGIN: 577899.52900 5393410.78900
NATION: US
NATION: "SCIENCE
STATE: MT
NW_QUAD_CORNER_XY: 578198.38400 5393262.22200
NE_QUAD_CORNER_XY: 582798.21500 5393328.18400
SE_QUAD_CORNERY_XY: 582900.63900 5386380.94100
SW_QUAD_CORNER_XY: 578295.11600 5386314.96000
SECONDARY_NW_QUAD_XY: 578200.87900 5393043.24600
SECONDARY_NE_QUAD_XY: 582800.85800 5393109.21100
SECONDARY_SE_QUAD_XY: 582903.28100 5386161.97400
SECONDARY_SW_QUAD_XY: 578297.61100 5386095.99100
RMSE_XY: 0.70000
IMAGE_SOURCE: BLACK AND WHITE FILM
SOURCE_IMAGE_ID: NAPP 9128 235
SOURCE_IMAGE_DATE: 1996 07 29
SOURCE_IMAGE_ID: NAPP 9128 209
SOURCE_IMAGE_DATE: 1996 07 29
SOURCE_DEM_DATE: 1969 00 00
AGENCY: WESTERN MAPPING CENTER (WMC)
PRODUCER: UNDEFINED
PRODUCTION_SYSTEM: GIS/MAGIC
COMPRESSION: UNDEFINED
STANDARD_VERSION: 1996 12
METADATA_DATE: 2000 11 29
DATA_FILE_SIZE: 40845459
BYTE_COUNT: 5361
