FILENAME: O4810917.NWS.1115153.tif
QUADRANGLE_NAME: KIEHNS COULEE
QUADRANT: NW
WEST_LONGITUDE: -110 0 0.00000
EAST_LONGITUDE: -109 56 15.00000
NORTH_LATITUDE: 48 45 0.00000
SOUTH_LATITUDE: 48 41 15.00000
PRODUCTION_DATE: 2000 10 24
RASTER_ORDER: LEFT_RIGHT/TOP_BOTTOM
BAND_ORGANIZATION: SINGLE FILE
BAND_CONTENT: BLACK&WHITE
BAND_CONTENT: UNDEFINED
BAND_CONTENT: UNDEFINED
BITS_PER_PIXEL: 8
SAMPLES_AND_LINES: 5350 7613
HORIZONTAL_DATUM: NAD83
HORIZONTAL_COORDINATE_SYSTEM: UTM
COORDINATE_ZONE: 12
HORIZONTAL_UNITS: METERS
HORIZONTAL_RESOLUTION: 1.00000
SECONDARY_HORIZONTAL_DATUM: NAD27
XY_ORIGIN: 573150.00000 5400510.00000
SECONDARY_XY_ORIGIN: 573208.38600 5400291.56100
NATION: US
NATION: "SCIENCE
STATE: MT
NW_QUAD_CORNER_XY: 573507.41100 5400147.38100
NE_QUAD_CORNER_XY: 578101.55800 5400209.55600
SE_QUAD_CORNERY_XY: 578198.38400 5393262.22200
SW_QUAD_CORNER_XY: 573598.54000 5393200.02900
SECONDARY_NW_QUAD_XY: 573509.76000 5399928.39800
SECONDARY_NE_QUAD_XY: 578104.05300 5399990.57500
SECONDARY_SE_QUAD_XY: 578200.87900 5393043.24600
SECONDARY_SW_QUAD_XY: 573600.88900 5392981.05100
RMSE_XY: 2.90000
IMAGE_SOURCE: BLACK AND WHITE FILM
SOURCE_IMAGE_ID: NAPP 9158 041
SOURCE_IMAGE_DATE: 1997 09 04
SOURCE_DEM_DATE: 1969 00 00
AGENCY: WESTERN MAPPING CENTER (WMC)
PRODUCER: UNDEFINED
PRODUCTION_SYSTEM: GIS/MAGIC
COMPRESSION: UNDEFINED
STANDARD_VERSION: 1996 12
METADATA_DATE: 2000 11 29
DATA_FILE_SIZE: 40734900
BYTE_COUNT: 5350
