FILENAME: O4810918.NWS.1119734.tif
QUADRANGLE_NAME: QUIGLEY COULEE
QUADRANT: NW
WEST_LONGITUDE: -109 52 30.00000
EAST_LONGITUDE: -109 48 45.00000
NORTH_LATITUDE: 48 45 0.00000
SOUTH_LATITUDE: 48 41 15.00000
PRODUCTION_DATE: 2000 10 25
RASTER_ORDER: LEFT_RIGHT/TOP_BOTTOM
BAND_ORGANIZATION: SINGLE FILE
BAND_CONTENT: BLACK&WHITE
BAND_CONTENT: UNDEFINED
BAND_CONTENT: UNDEFINED
BITS_PER_PIXEL: 8
SAMPLES_AND_LINES: 5362 7621
HORIZONTAL_DATUM: NAD83
HORIZONTAL_COORDINATE_SYSTEM: UTM
COORDINATE_ZONE: 12
HORIZONTAL_UNITS: METERS
HORIZONTAL_RESOLUTION: 1.00000
SECONDARY_HORIZONTAL_DATUM: NAD27
XY_ORIGIN: 582338.00000 5400646.00000
SECONDARY_XY_ORIGIN: 582396.43700 5400427.58100
NATION: US
NATION: "SCIENCE
STATE: MT
NW_QUAD_CORNER_XY: 582695.69300 5400275.50000
NE_QUAD_CORNER_XY: 587289.81500 5400345.21400
SE_QUAD_CORNERY_XY: 587398.03500 5393397.91800
SW_QUAD_CORNER_XY: 582798.21500 5393328.18400
SECONDARY_NW_QUAD_XY: 582698.33500 5400056.52200
SECONDARY_NE_QUAD_XY: 587292.60400 5400126.23700
SECONDARY_SE_QUAD_XY: 587400.82400 5393178.94600
SECONDARY_SW_QUAD_XY: 582800.85800 5393109.21100
RMSE_XY: 1.40000
IMAGE_SOURCE: BLACK AND WHITE FILM
SOURCE_IMAGE_ID: NAPP 9128 212
SOURCE_IMAGE_DATE: 1996 07 29
SOURCE_DEM_DATE: 1969 00 00
AGENCY: WESTERN MAPPING CENTER (WMC)
PRODUCER: UNDEFINED
PRODUCTION_SYSTEM: GIS/MAGIC
COMPRESSION: UNDEFINED
STANDARD_VERSION: 1996 12
METADATA_DATE: 2000 11 09
DATA_FILE_SIZE: 40869164
BYTE_COUNT: 5362
