FILENAME: O4810919.NES.1119773.tif
QUADRANGLE_NAME: HAVRE NW
QUADRANT: NE
WEST_LONGITUDE: -109 41 15.00000
EAST_LONGITUDE: -109 37 30.00000
NORTH_LATITUDE: 48 45 0.00000
SOUTH_LATITUDE: 48 41 15.00000
PRODUCTION_DATE: 2000 10 25
RASTER_ORDER: LEFT_RIGHT/TOP_BOTTOM
BAND_ORGANIZATION: SINGLE FILE
BAND_CONTENT: BLACK&WHITE
BAND_CONTENT: UNDEFINED
BAND_CONTENT: UNDEFINED
BITS_PER_PIXEL: 8
SAMPLES_AND_LINES: 5378 7632
HORIZONTAL_DATUM: NAD83
HORIZONTAL_COORDINATE_SYSTEM: UTM
COORDINATE_ZONE: 12
HORIZONTAL_UNITS: METERS
HORIZONTAL_RESOLUTION: 1.00000
SECONDARY_HORIZONTAL_DATUM: NAD27
XY_ORIGIN: 596121.00000 5400877.00000
SECONDARY_XY_ORIGIN: 596179.41600 5400658.58100
NATION: US
NATION: "SCIENCE
STATE: MT
NW_QUAD_CORNER_XY: 596478.01800 5400495.94800
NE_QUAD_CORNER_XY: 601072.09800 5400576.97000
SE_QUAD_CORNERY_XY: 601197.41000 5393629.73900
SW_QUAD_CORNER_XY: 596597.63300 5393548.69400
SECONDARY_NW_QUAD_XY: 596481.10100 5400276.97700
SECONDARY_NE_QUAD_XY: 601075.32800 5400358.00100
SECONDARY_SE_QUAD_XY: 601200.64000 5393410.77500
SECONDARY_SW_QUAD_XY: 596600.71600 5393329.72800
RMSE_XY: 1.10000
IMAGE_SOURCE: BLACK AND WHITE FILM
SOURCE_IMAGE_ID: NAPP 9159 194
SOURCE_IMAGE_DATE: 1997 09 22
SOURCE_DEM_DATE: 1963 00 00
AGENCY: WESTERN MAPPING CENTER (WMC)
PRODUCER: UNDEFINED
PRODUCTION_SYSTEM: GIS/MAGIC
COMPRESSION: UNDEFINED
STANDARD_VERSION: 1996 12
METADATA_DATE: 2000 12 21
DATA_FILE_SIZE: 41050274
BYTE_COUNT: 5378
