FILENAME: O4810920.NES.1119786.tif
QUADRANGLE_NAME: HAVRE NE
QUADRANT: NE
WEST_LONGITUDE: -109 33 45.00000
EAST_LONGITUDE: -109 30 0.00000
NORTH_LATITUDE: 48 45 0.00000
SOUTH_LATITUDE: 48 41 15.00000
PRODUCTION_DATE: 2000 10 25
RASTER_ORDER: LEFT_RIGHT/TOP_BOTTOM
BAND_ORGANIZATION: SINGLE FILE
BAND_CONTENT: BLACK&WHITE
BAND_CONTENT: UNDEFINED
BAND_CONTENT: UNDEFINED
BITS_PER_PIXEL: 8
SAMPLES_AND_LINES: 5388 7640
HORIZONTAL_DATUM: NAD83
HORIZONTAL_COORDINATE_SYSTEM: UTM
COORDINATE_ZONE: 12
HORIZONTAL_UNITS: METERS
HORIZONTAL_RESOLUTION: 1.00000
SECONDARY_HORIZONTAL_DATUM: NAD27
XY_ORIGIN: 605310.00000 5401051.00000
SECONDARY_XY_ORIGIN: 605368.25000 5400832.55600
NATION: US
NATION: "SCIENCE
STATE: MT
NW_QUAD_CORNER_XY: 605666.16200 5400661.76100
NE_QUAD_CORNER_XY: 610260.21000 5400750.32200
SE_QUAD_CORNERY_XY: 610396.91800 5393803.13900
SW_QUAD_CORNER_XY: 605797.17200 5393714.55400
SECONDARY_NW_QUAD_XY: 605669.53900 5400442.79400
SECONDARY_NE_QUAD_XY: 610263.73400 5400531.35800
SECONDARY_SE_QUAD_XY: 610400.44200 5393584.18100
SECONDARY_SW_QUAD_XY: 605800.54900 5393495.59200
RMSE_XY: 1.80000
IMAGE_SOURCE: BLACK AND WHITE FILM
SOURCE_IMAGE_ID: NAPP 9159 078
SOURCE_IMAGE_DATE: 1997 09 22
SOURCE_DEM_DATE: 1993 00 00
AGENCY: WESTERN MAPPING CENTER (WMC)
PRODUCER: UNDEFINED
PRODUCTION_SYSTEM: GIS/MAGIC
COMPRESSION: UNDEFINED
STANDARD_VERSION: 1996 12
METADATA_DATE: 2000 11 09
DATA_FILE_SIZE: 41169708
BYTE_COUNT: 5388
