FILENAME: O4810921.SES.1119826.tif
QUADRANGLE_NAME: RESERVOIR COULEE
QUADRANT: SE
WEST_LONGITUDE: -109 26 15.00000
EAST_LONGITUDE: -109 22 30.00000
NORTH_LATITUDE: 48 41 15.00000
SOUTH_LATITUDE: 48 37 30.00000
PRODUCTION_DATE: 2000 10 17
RASTER_ORDER: LEFT_RIGHT/TOP_BOTTOM
BAND_ORGANIZATION: SINGLE FILE
BAND_CONTENT: BLACK&WHITE
BAND_CONTENT: UNDEFINED
BAND_CONTENT: UNDEFINED
BITS_PER_PIXEL: 8
SAMPLES_AND_LINES: 5405 7647
HORIZONTAL_DATUM: NAD83
HORIZONTAL_COORDINATE_SYSTEM: UTM
COORDINATE_ZONE: 12
HORIZONTAL_UNITS: METERS
HORIZONTAL_RESOLUTION: 1.00000
SECONDARY_HORIZONTAL_DATUM: NAD27
XY_ORIGIN: 614641.00000 5394292.00000
SECONDARY_XY_ORIGIN: 614699.15900 5394073.78300
NATION: US
NATION: "SCIENCE
STATE: MT
NW_QUAD_CORNER_XY: 614996.64800 5393895.49600
NE_QUAD_CORNER_XY: 619596.36000 5393991.62400
SE_QUAD_CORNERY_XY: 619744.32100 5387044.56500
SW_QUAD_CORNER_XY: 615138.91600 5386948.41000
SECONDARY_NW_QUAD_XY: 615000.31800 5393676.54100
SECONDARY_NE_QUAD_XY: 619600.17700 5393772.67200
SECONDARY_SE_QUAD_XY: 619748.13800 5386825.61900
SECONDARY_SW_QUAD_XY: 615142.58700 5386729.46100
RMSE_XY: 1.40000
IMAGE_SOURCE: BLACK AND WHITE FILM
SOURCE_IMAGE_ID: NAPP 9156 122
SOURCE_IMAGE_DATE: 1997 08 29
SOURCE_DEM_DATE: 1993 00 00
AGENCY: WESTERN MAPPING CENTER (WMC)
PRODUCER: UNDEFINED
PRODUCTION_SYSTEM: GIS/MAGIC
COMPRESSION: UNDEFINED
STANDARD_VERSION: 1996 12
METADATA_DATE: 2000 11 09
DATA_FILE_SIZE: 41337440
BYTE_COUNT: 5405
