FILENAME: O4810921.NES.1119824.tif
QUADRANGLE_NAME: RESERVOIR COULEE
QUADRANT: NE
WEST_LONGITUDE: -109 26 15.00000
EAST_LONGITUDE: -109 22 30.00000
NORTH_LATITUDE: 48 45 0.00000
SOUTH_LATITUDE: 48 41 15.00000
PRODUCTION_DATE: 2000 10 17
RASTER_ORDER: LEFT_RIGHT/TOP_BOTTOM
BAND_ORGANIZATION: SINGLE FILE
BAND_CONTENT: BLACK&WHITE
BAND_CONTENT: UNDEFINED
BAND_CONTENT: UNDEFINED
BITS_PER_PIXEL: 8
SAMPLES_AND_LINES: 5400 7647
HORIZONTAL_DATUM: NAD83
HORIZONTAL_COORDINATE_SYSTEM: UTM
COORDINATE_ZONE: 12
HORIZONTAL_UNITS: METERS
HORIZONTAL_RESOLUTION: 1.00000
SECONDARY_HORIZONTAL_DATUM: NAD27
XY_ORIGIN: 614498.00000 5401239.00000
SECONDARY_XY_ORIGIN: 614556.04300 5401020.59200
NATION: US
NATION: "SCIENCE
STATE: MT
NW_QUAD_CORNER_XY: 614854.24100 5400842.65200
NE_QUAD_CORNER_XY: 619448.25400 5400938.75300
SE_QUAD_CORNERY_XY: 619596.36000 5393991.62400
SW_QUAD_CORNER_XY: 614996.64800 5393895.49600
SECONDARY_NW_QUAD_XY: 614857.91200 5400623.69200
SECONDARY_NE_QUAD_XY: 619452.07200 5400719.79600
SECONDARY_SE_QUAD_XY: 619600.17700 5393772.67200
SECONDARY_SW_QUAD_XY: 615000.31800 5393676.54100
RMSE_XY: 1.80000
IMAGE_SOURCE: BLACK AND WHITE FILM
SOURCE_IMAGE_ID: NAPP 9156 120
SOURCE_IMAGE_DATE: 1997 08 29
SOURCE_DEM_DATE: 1993 00 00
AGENCY: WESTERN MAPPING CENTER (WMC)
PRODUCER: UNDEFINED
PRODUCTION_SYSTEM: GIS/MAGIC
COMPRESSION: UNDEFINED
STANDARD_VERSION: 1996 12
METADATA_DATE: 2000 11 09
DATA_FILE_SIZE: 41299200
BYTE_COUNT: 5400
