FILENAME: O4810923.SES.1115705.tif
QUADRANGLE_NAME: RABBIT HILLS
QUADRANT: SE
WEST_LONGITUDE: -109 11 15.00000
EAST_LONGITUDE: -109 7 30.00000
NORTH_LATITUDE: 48 41 15.00000
SOUTH_LATITUDE: 48 37 30.00000
PRODUCTION_DATE: 2000 10 30
RASTER_ORDER: LEFT_RIGHT/TOP_BOTTOM
BAND_ORGANIZATION: SINGLE FILE
BAND_CONTENT: BLACK&WHITE
BAND_CONTENT: UNDEFINED
BAND_CONTENT: UNDEFINED
BITS_PER_PIXEL: 8
SAMPLES_AND_LINES: 5427 7662
HORIZONTAL_DATUM: NAD83
HORIZONTAL_COORDINATE_SYSTEM: UTM
COORDINATE_ZONE: 12
HORIZONTAL_UNITS: METERS
HORIZONTAL_RESOLUTION: 1.00000
SECONDARY_HORIZONTAL_DATUM: NAD27
XY_ORIGIN: 633040.00000 5394714.00000
SECONDARY_XY_ORIGIN: 633097.71500 5394496.02700
NATION: US
NATION: "SCIENCE
STATE: MT
NW_QUAD_CORNER_XY: 633395.38400 5394302.63800
NE_QUAD_CORNER_XY: 637995.01900 5394413.85200
SE_QUAD_CORNERY_XY: 638165.75600 5387466.91000
SW_QUAD_CORNER_XY: 633560.42700 5387355.66500
SECONDARY_NW_QUAD_XY: 633399.64100 5394083.69500
SECONDARY_NE_QUAD_XY: 637999.42300 5394194.91400
SECONDARY_SE_QUAD_XY: 638170.16000 5387247.97700
SECONDARY_SW_QUAD_XY: 633564.68400 5387136.72800
RMSE_XY: 1.20000
IMAGE_SOURCE: BLACK AND WHITE FILM
SOURCE_IMAGE_ID: NAPP 9130 012
SOURCE_IMAGE_DATE: 1996 07 27
SOURCE_DEM_DATE: 1993 00 00
AGENCY: WESTERN MAPPING CENTER (WMC)
PRODUCER: UNDEFINED
PRODUCTION_SYSTEM: GIS/MAGIC
COMPRESSION: UNDEFINED
STANDARD_VERSION: 1996 12
METADATA_DATE: 2000 11 10
DATA_FILE_SIZE: 41587101
BYTE_COUNT: 5427
