FILENAME: O4810924.SWS.1115750.tif
QUADRANGLE_NAME: TULE LAKE
QUADRANT: SW
WEST_LONGITUDE: -109 7 30.00000
EAST_LONGITUDE: -109 3 45.00000
NORTH_LATITUDE: 48 41 15.00000
SOUTH_LATITUDE: 48 37 30.00000
PRODUCTION_DATE: 2000 10 30
RASTER_ORDER: LEFT_RIGHT/TOP_BOTTOM
BAND_ORGANIZATION: SINGLE FILE
BAND_CONTENT: BLACK&WHITE
BAND_CONTENT: UNDEFINED
BAND_CONTENT: UNDEFINED
BITS_PER_PIXEL: 8
SAMPLES_AND_LINES: 5433 7666
HORIZONTAL_DATUM: NAD83
HORIZONTAL_COORDINATE_SYSTEM: UTM
COORDINATE_ZONE: 12
HORIZONTAL_UNITS: METERS
HORIZONTAL_RESOLUTION: 1.00000
SECONDARY_HORIZONTAL_DATUM: NAD27
XY_ORIGIN: 637640.00000 5394829.00000
SECONDARY_XY_ORIGIN: 637697.65700 5394611.10000
NATION: US
NATION: "SCIENCE
STATE: MT
NW_QUAD_CORNER_XY: 637995.01900 5394413.85200
NE_QUAD_CORNER_XY: 642594.63300 5394528.83900
SE_QUAD_CORNERY_XY: 642771.06500 5387581.92900
SW_QUAD_CORNER_XY: 638165.75600 5387466.91000
SECONDARY_NW_QUAD_XY: 637999.42300 5394194.91400
SECONDARY_NE_QUAD_XY: 642599.18400 5394309.90400
SECONDARY_SE_QUAD_XY: 642775.61600 5387363.00000
SECONDARY_SW_QUAD_XY: 638170.16000 5387247.97700
RMSE_XY: 1.30000
IMAGE_SOURCE: BLACK AND WHITE FILM
SOURCE_IMAGE_ID: NAPP 9145 158
SOURCE_IMAGE_DATE: 1996 08 25
SOURCE_DEM_DATE: 1975 00 00
AGENCY: WESTERN MAPPING CENTER (WMC)
PRODUCER: UNDEFINED
PRODUCTION_SYSTEM: GIS/MAGIC
COMPRESSION: UNDEFINED
STANDARD_VERSION: 1996 12
METADATA_DATE: 2000 11 29
DATA_FILE_SIZE: 41654811
BYTE_COUNT: 5433
