FILENAME: O4810924.SES.1115749.tif
QUADRANGLE_NAME: TULE LAKE
QUADRANT: SE
WEST_LONGITUDE: -109 3 45.00000
EAST_LONGITUDE: -109 0 0.00000
NORTH_LATITUDE: 48 41 15.00000
SOUTH_LATITUDE: 48 37 30.00000
PRODUCTION_DATE: 2000 11 10
RASTER_ORDER: LEFT_RIGHT/TOP_BOTTOM
BAND_ORGANIZATION: SINGLE FILE
BAND_CONTENT: BLACK&WHITE
BAND_CONTENT: UNDEFINED
BAND_CONTENT: UNDEFINED
BITS_PER_PIXEL: 8
SAMPLES_AND_LINES: 5438 7670
HORIZONTAL_DATUM: NAD83
HORIZONTAL_COORDINATE_SYSTEM: UTM
COORDINATE_ZONE: 12
HORIZONTAL_UNITS: METERS
HORIZONTAL_RESOLUTION: 1.00000
SECONDARY_HORIZONTAL_DATUM: NAD27
XY_ORIGIN: 642240.00000 5394948.00000
SECONDARY_XY_ORIGIN: 642297.60000 5394730.17400
NATION: US
NATION: "SCIENCE
STATE: MT
NW_QUAD_CORNER_XY: 642594.63300 5394528.83900
NE_QUAD_CORNER_XY: 647194.22500 5394647.59900
SE_QUAD_CORNERY_XY: 647376.35300 5387700.72200
SW_QUAD_CORNER_XY: 642771.06500 5387581.92900
SECONDARY_NW_QUAD_XY: 642599.18400 5394309.90400
SECONDARY_NE_QUAD_XY: 647198.92300 5394428.66800
SECONDARY_SE_QUAD_XY: 647381.05100 5387481.79600
SECONDARY_SW_QUAD_XY: 642775.61600 5387363.00000
RMSE_XY: 0.80000
IMAGE_SOURCE: BLACK AND WHITE FILM
SOURCE_IMAGE_ID: NAPP 9145 161
SOURCE_IMAGE_DATE: 1996 08 25
SOURCE_IMAGE_ID: NAPP 9147 179
SOURCE_IMAGE_DATE: 1996 08 24
SOURCE_DEM_DATE: 1975 00 00
AGENCY: WESTERN MAPPING CENTER (WMC)
PRODUCER: UNDEFINED
PRODUCTION_SYSTEM: GIS/MAGIC
COMPRESSION: UNDEFINED
STANDARD_VERSION: 1996 12
METADATA_DATE: 2000 11 29
DATA_FILE_SIZE: 41714898
BYTE_COUNT: 5438
