FILENAME: O4810926.SES.1119739.tif
QUADRANGLE_NAME: HERRON PARK
QUADRANT: SE
WEST_LONGITUDE: -109 48 45.00000
EAST_LONGITUDE: -109 45 0.00000
NORTH_LATITUDE: 48 33 45.00000
SOUTH_LATITUDE: 48 30 0.00000
PRODUCTION_DATE: 2000 10 25
RASTER_ORDER: LEFT_RIGHT/TOP_BOTTOM
BAND_ORGANIZATION: SINGLE FILE
BAND_CONTENT: BLACK&WHITE
BAND_CONTENT: UNDEFINED
BAND_CONTENT: UNDEFINED
BITS_PER_PIXEL: 8
SAMPLES_AND_LINES: 5383 7625
HORIZONTAL_DATUM: NAD83
HORIZONTAL_COORDINATE_SYSTEM: UTM
COORDINATE_ZONE: 12
HORIZONTAL_UNITS: METERS
HORIZONTAL_RESOLUTION: 1.00000
SECONDARY_HORIZONTAL_DATUM: NAD27
XY_ORIGIN: 587257.00000 5379878.00000
SECONDARY_XY_ORIGIN: 587315.85700 5379660.12800
NATION: US
NATION: "SCIENCE
STATE: MT
NW_QUAD_CORNER_XY: 587614.16000 5379503.54200
NE_QUAD_CORNER_XY: 592225.34400 5379577.08600
SE_QUAD_CORNERY_XY: 592338.92900 5372630.02700
SW_QUAD_CORNER_XY: 587722.06500 5372556.46400
SECONDARY_NW_QUAD_XY: 587616.94900 5379284.58400
SECONDARY_NE_QUAD_XY: 592228.27900 5379358.13000
SECONDARY_SE_QUAD_XY: 592341.86500 5372411.07900
SECONDARY_SW_QUAD_XY: 587724.85400 5372337.51300
RMSE_XY: 1.20000
IMAGE_SOURCE: BLACK AND WHITE FILM
SOURCE_IMAGE_ID: NAPP 9128 115
SOURCE_IMAGE_DATE: 1996 07 29
SOURCE_DEM_DATE: 1993 00 00
AGENCY: WESTERN MAPPING CENTER (WMC)
PRODUCER: UNDEFINED
PRODUCTION_SYSTEM: GIS/MAGIC
COMPRESSION: UNDEFINED
STANDARD_VERSION: 1996 12
METADATA_DATE: 2000 11 09
DATA_FILE_SIZE: 41050758
BYTE_COUNT: 5383
