FILENAME: O4810927.SES.1119747.tif
QUADRANGLE_NAME: HAVRE
QUADRANT: SE
WEST_LONGITUDE: -109 41 15.00000
EAST_LONGITUDE: -109 37 30.00000
NORTH_LATITUDE: 48 33 45.00000
SOUTH_LATITUDE: 48 30 0.00000
PRODUCTION_DATE: 2000 10 25
RASTER_ORDER: LEFT_RIGHT/TOP_BOTTOM
BAND_ORGANIZATION: SINGLE FILE
BAND_CONTENT: BLACK&WHITE
BAND_CONTENT: UNDEFINED
BAND_CONTENT: UNDEFINED
BITS_PER_PIXEL: 8
SAMPLES_AND_LINES: 5395 7632
HORIZONTAL_DATUM: NAD83
HORIZONTAL_COORDINATE_SYSTEM: UTM
COORDINATE_ZONE: 12
HORIZONTAL_UNITS: METERS
HORIZONTAL_RESOLUTION: 1.00000
SECONDARY_HORIZONTAL_DATUM: NAD27
XY_ORIGIN: 596479.00000 5380036.00000
SECONDARY_XY_ORIGIN: 596537.81700 5379818.07700
NATION: US
NATION: "SCIENCE
STATE: MT
NW_QUAD_CORNER_XY: 596836.51400 5379654.40200
NE_QUAD_CORNER_XY: 601447.67000 5379735.49100
SE_QUAD_CORNERY_XY: 601572.61800 5372788.47400
SW_QUAD_CORNER_XY: 596955.78000 5372707.36400
SECONDARY_NW_QUAD_XY: 596839.59700 5379435.44900
SECONDARY_NE_QUAD_XY: 601450.90000 5379516.54000
SECONDARY_SE_QUAD_XY: 601575.84700 5372569.53100
SECONDARY_SW_QUAD_XY: 596958.86300 5372488.41800
RMSE_XY: 3.30000
IMAGE_SOURCE: BLACK AND WHITE FILM
SOURCE_IMAGE_ID: NAPP 9159 200
SOURCE_IMAGE_DATE: 1997 09 22
SOURCE_IMAGE_ID: NAPP 9159 201
SOURCE_IMAGE_DATE: 1997 09 22
SOURCE_IMAGE_ID: NAPP 9159 167
SOURCE_IMAGE_DATE: 1997 09 22
SOURCE_DEM_DATE: 2000 01 01
AGENCY: WESTERN MAPPING CENTER (WMC)
PRODUCER: UNDEFINED
PRODUCTION_SYSTEM: GIS/MAGIC
COMPRESSION: UNDEFINED
STANDARD_VERSION: 1996 12
METADATA_DATE: 2000 11 09
DATA_FILE_SIZE: 41180035
BYTE_COUNT: 5395
