FILENAME: O4810927.NWS.1119746.tif
QUADRANGLE_NAME: HAVRE
QUADRANT: NW
WEST_LONGITUDE: -109 45 0.00000
EAST_LONGITUDE: -109 41 15.00000
NORTH_LATITUDE: 48 37 30.00000
SOUTH_LATITUDE: 48 33 45.00000
PRODUCTION_DATE: 2000 10 25
RASTER_ORDER: LEFT_RIGHT/TOP_BOTTOM
BAND_ORGANIZATION: SINGLE FILE
BAND_CONTENT: BLACK&WHITE
BAND_CONTENT: UNDEFINED
BAND_CONTENT: UNDEFINED
BITS_PER_PIXEL: 8
SAMPLES_AND_LINES: 5384 7628
HORIZONTAL_DATUM: NAD83
HORIZONTAL_COORDINATE_SYSTEM: UTM
COORDINATE_ZONE: 12
HORIZONTAL_UNITS: METERS
HORIZONTAL_RESOLUTION: 1.00000
SECONDARY_HORIZONTAL_DATUM: NAD27
XY_ORIGIN: 591754.00000 5386902.00000
SECONDARY_XY_ORIGIN: 591812.77700 5386683.90800
NATION: US
NATION: "SCIENCE
STATE: MT
NW_QUAD_CORNER_XY: 592111.64700 5386524.21700
NE_QUAD_CORNER_XY: 596717.13100 5386601.51200
SE_QUAD_CORNERY_XY: 596836.51400 5379654.40200
SW_QUAD_CORNER_XY: 592225.34400 5379577.08600
SECONDARY_NW_QUAD_XY: 592114.58300 5386305.25400
SECONDARY_NE_QUAD_XY: 596720.21400 5386382.55200
SECONDARY_SE_QUAD_XY: 596839.59700 5379435.44900
SECONDARY_SW_QUAD_XY: 592228.27900 5379358.13000
RMSE_XY: 1.60000
IMAGE_SOURCE: BLACK AND WHITE FILM
SOURCE_IMAGE_ID: NAPP 9160 073
SOURCE_IMAGE_DATE: 1997 09 23
SOURCE_IMAGE_ID: NAPP 9160 074
SOURCE_IMAGE_DATE: 1997 09 23
SOURCE_DEM_DATE: 2000 01 01
AGENCY: WESTERN MAPPING CENTER (WMC)
PRODUCER: UNDEFINED
PRODUCTION_SYSTEM: GIS/MAGIC
COMPRESSION: UNDEFINED
STANDARD_VERSION: 1996 12
METADATA_DATE: 2000 11 09
DATA_FILE_SIZE: 41074536
BYTE_COUNT: 5384
