FILENAME: O4810928.SWS.1119793.tif
QUADRANGLE_NAME: HAVRE SE
QUADRANT: SW
WEST_LONGITUDE: -109 37 30.00000
EAST_LONGITUDE: -109 33 45.00000
NORTH_LATITUDE: 48 33 45.00000
SOUTH_LATITUDE: 48 30 0.00000
PRODUCTION_DATE: 2000 10 25
RASTER_ORDER: LEFT_RIGHT/TOP_BOTTOM
BAND_ORGANIZATION: SINGLE FILE
BAND_CONTENT: BLACK&WHITE
BAND_CONTENT: UNDEFINED
BAND_CONTENT: UNDEFINED
BITS_PER_PIXEL: 8
SAMPLES_AND_LINES: 5400 7636
HORIZONTAL_DATUM: NAD83
HORIZONTAL_COORDINATE_SYSTEM: UTM
COORDINATE_ZONE: 12
HORIZONTAL_UNITS: METERS
HORIZONTAL_RESOLUTION: 1.00000
SECONDARY_HORIZONTAL_DATUM: NAD27
XY_ORIGIN: 601091.00000 5380121.00000
SECONDARY_XY_ORIGIN: 601149.71700 5379903.08700
NATION: US
NATION: "SCIENCE
STATE: MT
NW_QUAD_CORNER_XY: 601447.67000 5379735.49100
NE_QUAD_CORNER_XY: 606058.81200 5379820.35200
SE_QUAD_CORNERY_XY: 606189.44000 5372873.35800
SW_QUAD_CORNER_XY: 601572.61800 5372788.47400
SECONDARY_NW_QUAD_XY: 601450.90000 5379516.54000
SECONDARY_NE_QUAD_XY: 606062.18800 5379601.40400
SECONDARY_SE_QUAD_XY: 606192.81700 5372654.41800
SECONDARY_SW_QUAD_XY: 601575.84700 5372569.53100
RMSE_XY: 1.60000
IMAGE_SOURCE: BLACK AND WHITE FILM
SOURCE_IMAGE_ID: NAPP 9159 167
SOURCE_IMAGE_DATE: 1997 09 22
SOURCE_IMAGE_ID: NAPP 9159 201
SOURCE_IMAGE_DATE: 1997 09 22
SOURCE_IMAGE_ID: NAPP 9159 166
SOURCE_IMAGE_DATE: 1997 09 22
SOURCE_IMAGE_ID: NAPP 9159 084
SOURCE_IMAGE_DATE: 1997 09 22
SOURCE_DEM_DATE: 1993 00 00
AGENCY: WESTERN MAPPING CENTER (WMC)
PRODUCER: UNDEFINED
PRODUCTION_SYSTEM: GIS/MAGIC
COMPRESSION: UNDEFINED
STANDARD_VERSION: 1996 12
METADATA_DATE: 2000 11 09
DATA_FILE_SIZE: 41239800
BYTE_COUNT: 5400
