FILENAME: O4810928.SES.1119792.tif
QUADRANGLE_NAME: HAVRE SE
QUADRANT: SE
WEST_LONGITUDE: -109 33 45.00000
EAST_LONGITUDE: -109 30 0.00000
NORTH_LATITUDE: 48 33 45.00000
SOUTH_LATITUDE: 48 30 0.00000
PRODUCTION_DATE: 2000 10 25
RASTER_ORDER: LEFT_RIGHT/TOP_BOTTOM
BAND_ORGANIZATION: SINGLE FILE
BAND_CONTENT: BLACK&WHITE
BAND_CONTENT: UNDEFINED
BAND_CONTENT: UNDEFINED
BITS_PER_PIXEL: 8
SAMPLES_AND_LINES: 5406 7639
HORIZONTAL_DATUM: NAD83
HORIZONTAL_COORDINATE_SYSTEM: UTM
COORDINATE_ZONE: 12
HORIZONTAL_UNITS: METERS
HORIZONTAL_RESOLUTION: 1.00000
SECONDARY_HORIZONTAL_DATUM: NAD27
XY_ORIGIN: 605702.00000 5380209.00000
SECONDARY_XY_ORIGIN: 605760.61800 5379991.09700
NATION: US
NATION: "SCIENCE
STATE: MT
NW_QUAD_CORNER_XY: 606058.81200 5379820.35200
NE_QUAD_CORNER_XY: 610669.93700 5379908.98700
SE_QUAD_CORNERY_XY: 610806.24800 5372962.01700
SW_QUAD_CORNER_XY: 606189.44000 5372873.35800
SECONDARY_NW_QUAD_XY: 606062.18800 5379601.40400
SECONDARY_NE_QUAD_XY: 610673.46100 5379690.04100
SECONDARY_SE_QUAD_XY: 610809.77100 5372743.07900
SECONDARY_SW_QUAD_XY: 606192.81700 5372654.41800
RMSE_XY: 2.50000
IMAGE_SOURCE: BLACK AND WHITE FILM
SOURCE_IMAGE_ID: NAPP 9159 084
SOURCE_IMAGE_DATE: 1997 09 22
SOURCE_IMAGE_ID: NAPP 9159 085
SOURCE_IMAGE_DATE: 1997 09 22
SOURCE_DEM_DATE: 1993 00 00
AGENCY: WESTERN MAPPING CENTER (WMC)
PRODUCER: UNDEFINED
PRODUCTION_SYSTEM: GIS/MAGIC
COMPRESSION: UNDEFINED
STANDARD_VERSION: 1996 12
METADATA_DATE: 2000 11 09
DATA_FILE_SIZE: 41301840
BYTE_COUNT: 5406
