FILENAME: O4810928.NWS.1119791.tif
QUADRANGLE_NAME: HAVRE SE
QUADRANT: NW
WEST_LONGITUDE: -109 37 30.00000
EAST_LONGITUDE: -109 33 45.00000
NORTH_LATITUDE: 48 37 30.00000
SOUTH_LATITUDE: 48 33 45.00000
PRODUCTION_DATE: 2000 10 25
RASTER_ORDER: LEFT_RIGHT/TOP_BOTTOM
BAND_ORGANIZATION: SINGLE FILE
BAND_CONTENT: BLACK&WHITE
BAND_CONTENT: UNDEFINED
BAND_CONTENT: UNDEFINED
BITS_PER_PIXEL: 8
SAMPLES_AND_LINES: 5394 7636
HORIZONTAL_DATUM: NAD83
HORIZONTAL_COORDINATE_SYSTEM: UTM
COORDINATE_ZONE: 12
HORIZONTAL_UNITS: METERS
HORIZONTAL_RESOLUTION: 1.00000
SECONDARY_HORIZONTAL_DATUM: NAD27
XY_ORIGIN: 600966.00000 5387068.00000
SECONDARY_XY_ORIGIN: 601024.58900 5386849.91400
NATION: US
NATION: "SCIENCE
STATE: MT
NW_QUAD_CORNER_XY: 601322.60100 5386682.57900
NE_QUAD_CORNER_XY: 605928.05500 5386767.41800
SE_QUAD_CORNERY_XY: 606058.81200 5379820.35200
SW_QUAD_CORNER_XY: 601447.67000 5379735.49100
SECONDARY_NW_QUAD_XY: 601325.83100 5386463.62100
SECONDARY_NE_QUAD_XY: 605931.43200 5386548.46200
SECONDARY_SE_QUAD_XY: 606062.18800 5379601.40400
SECONDARY_SW_QUAD_XY: 601450.90000 5379516.54000
RMSE_XY: 1.90000
IMAGE_SOURCE: BLACK AND WHITE FILM
SOURCE_IMAGE_ID: NAPP 9159 169
SOURCE_IMAGE_DATE: 1997 09 22
SOURCE_DEM_DATE: 1993 00 00
AGENCY: WESTERN MAPPING CENTER (WMC)
PRODUCER: UNDEFINED
PRODUCTION_SYSTEM: GIS/MAGIC
COMPRESSION: UNDEFINED
STANDARD_VERSION: 1996 12
METADATA_DATE: 2000 11 09
DATA_FILE_SIZE: 41193978
BYTE_COUNT: 5394
