FILENAME: O4810928.NES.1119790.tif
QUADRANGLE_NAME: HAVRE SE
QUADRANT: NE
WEST_LONGITUDE: -109 33 45.00000
EAST_LONGITUDE: -109 30 0.00000
NORTH_LATITUDE: 48 37 30.00000
SOUTH_LATITUDE: 48 33 45.00000
PRODUCTION_DATE: 2000 10 25
RASTER_ORDER: LEFT_RIGHT/TOP_BOTTOM
BAND_ORGANIZATION: SINGLE FILE
BAND_CONTENT: BLACK&WHITE
BAND_CONTENT: UNDEFINED
BAND_CONTENT: UNDEFINED
BITS_PER_PIXEL: 8
SAMPLES_AND_LINES: 5400 7640
HORIZONTAL_DATUM: NAD83
HORIZONTAL_COORDINATE_SYSTEM: UTM
COORDINATE_ZONE: 12
HORIZONTAL_UNITS: METERS
HORIZONTAL_RESOLUTION: 1.00000
SECONDARY_HORIZONTAL_DATUM: NAD27
XY_ORIGIN: 605571.00000 5387157.00000
SECONDARY_XY_ORIGIN: 605629.49500 5386938.91600
NATION: US
NATION: "SCIENCE
STATE: MT
NW_QUAD_CORNER_XY: 605928.05500 5386767.41800
NE_QUAD_CORNER_XY: 610533.49400 5386856.02800
SE_QUAD_CORNERY_XY: 610669.93700 5379908.98700
SW_QUAD_CORNER_XY: 606058.81200 5379820.35200
SECONDARY_NW_QUAD_XY: 605931.43200 5386548.46200
SECONDARY_NE_QUAD_XY: 610537.01700 5386637.07500
SECONDARY_SE_QUAD_XY: 610673.46100 5379690.04100
SECONDARY_SW_QUAD_XY: 606062.18800 5379601.40400
RMSE_XY: 1.80000
IMAGE_SOURCE: BLACK AND WHITE FILM
SOURCE_IMAGE_ID: NAPP 9159 082
SOURCE_IMAGE_DATE: 1997 09 22
SOURCE_IMAGE_ID: NAPP 9159 083
SOURCE_IMAGE_DATE: 1997 09 22
SOURCE_DEM_DATE: 1993 00 00
AGENCY: WESTERN MAPPING CENTER (WMC)
PRODUCER: UNDEFINED
PRODUCTION_SYSTEM: GIS/MAGIC
COMPRESSION: UNDEFINED
STANDARD_VERSION: 1996 12
METADATA_DATE: 2000 11 09
DATA_FILE_SIZE: 41261400
BYTE_COUNT: 5400
