FILENAME: O4810930.SWS.1115690.tif
QUADRANGLE_NAME: LOHMAN SE
QUADRANT: SW
WEST_LONGITUDE: -109 22 30.00000
EAST_LONGITUDE: -109 18 45.00000
NORTH_LATITUDE: 48 33 45.00000
SOUTH_LATITUDE: 48 30 0.00000
PRODUCTION_DATE: 2000 10 30
RASTER_ORDER: LEFT_RIGHT/TOP_BOTTOM
BAND_ORGANIZATION: SINGLE FILE
BAND_CONTENT: BLACK&WHITE
BAND_CONTENT: UNDEFINED
BAND_CONTENT: UNDEFINED
BITS_PER_PIXEL: 8
SAMPLES_AND_LINES: 5422 7651
HORIZONTAL_DATUM: NAD83
HORIZONTAL_COORDINATE_SYSTEM: UTM
COORDINATE_ZONE: 12
HORIZONTAL_UNITS: METERS
HORIZONTAL_RESOLUTION: 1.00000
SECONDARY_HORIZONTAL_DATUM: NAD27
XY_ORIGIN: 619536.00000 5380498.00000
SECONDARY_XY_ORIGIN: 619594.26000 5380280.23400
NATION: US
NATION: "SCIENCE
STATE: MT
NW_QUAD_CORNER_XY: 619892.14000 5380097.57500
NE_QUAD_CORNER_XY: 624503.21500 5380197.53000
SE_QUAD_CORNERY_XY: 624656.57200 5373250.63700
SW_QUAD_CORNER_XY: 620039.81400 5373150.65500
SECONDARY_NW_QUAD_XY: 619895.95700 5379878.63600
SECONDARY_NE_QUAD_XY: 624507.17900 5379978.59300
SECONDARY_SE_QUAD_XY: 624660.53500 5373031.70800
SECONDARY_SW_QUAD_XY: 620043.63100 5372931.72400
RMSE_XY: 1.30000
IMAGE_SOURCE: BLACK AND WHITE FILM
SOURCE_IMAGE_ID: NAPP 9156 093
SOURCE_IMAGE_DATE: 1997 08 29
SOURCE_DEM_DATE: 1993 00 00
AGENCY: WESTERN MAPPING CENTER (WMC)
PRODUCER: UNDEFINED
PRODUCTION_SYSTEM: GIS/MAGIC
COMPRESSION: UNDEFINED
STANDARD_VERSION: 1996 12
METADATA_DATE: 2000 11 10
DATA_FILE_SIZE: 41489144
BYTE_COUNT: 5422
