FILENAME: O4810933.NWS.1115137.tif
QUADRANGLE_NAME: LAREDO
QUADRANT: NW
WEST_LONGITUDE: -110 0 0.00000
EAST_LONGITUDE: -109 56 15.00000
NORTH_LATITUDE: 48 30 0.00000
SOUTH_LATITUDE: 48 26 15.00000
PRODUCTION_DATE: 2000 10 24
RASTER_ORDER: LEFT_RIGHT/TOP_BOTTOM
BAND_ORGANIZATION: SINGLE FILE
BAND_CONTENT: BLACK&WHITE
BAND_CONTENT: UNDEFINED
BAND_CONTENT: UNDEFINED
BITS_PER_PIXEL: 8
SAMPLES_AND_LINES: 5373 7614
HORIZONTAL_DATUM: NAD83
HORIZONTAL_COORDINATE_SYSTEM: UTM
COORDINATE_ZONE: 12
HORIZONTAL_UNITS: METERS
HORIZONTAL_RESOLUTION: 1.00000
SECONDARY_HORIZONTAL_DATUM: NAD27
XY_ORIGIN: 573513.00000 5372721.00000
SECONDARY_XY_ORIGIN: 573571.83800 5372503.50900
NATION: US
NATION: "SCIENCE
STATE: MT
NW_QUAD_CORNER_XY: 573871.39800 5372358.41300
NE_QUAD_CORNER_XY: 578488.29800 5372420.65700
SE_QUAD_CORNERY_XY: 578584.74800 5365473.61500
SW_QUAD_CORNER_XY: 573962.17300 5365411.35500
SECONDARY_NW_QUAD_XY: 573873.74700 5372139.45600
SECONDARY_NE_QUAD_XY: 578490.79400 5372201.70200
SECONDARY_SE_QUAD_XY: 578587.24400 5365254.66900
SECONDARY_SW_QUAD_XY: 573964.52200 5365192.40700
RMSE_XY: 1.10000
IMAGE_SOURCE: BLACK AND WHITE FILM
SOURCE_IMAGE_ID: NAPP 9158 033
SOURCE_IMAGE_DATE: 1997 09 04
SOURCE_DEM_DATE: 1993 00 00
AGENCY: WESTERN MAPPING CENTER (WMC)
PRODUCER: UNDEFINED
PRODUCTION_SYSTEM: GIS/MAGIC
COMPRESSION: UNDEFINED
STANDARD_VERSION: 1996 12
METADATA_DATE: 2000 11 08
DATA_FILE_SIZE: 40915395
BYTE_COUNT: 5373
