FILENAME: O4810934.NWS.1119742.tif
QUADRANGLE_NAME: LAREDO NE
QUADRANT: NW
WEST_LONGITUDE: -109 52 30.00000
EAST_LONGITUDE: -109 48 45.00000
NORTH_LATITUDE: 48 30 0.00000
SOUTH_LATITUDE: 48 26 15.00000
PRODUCTION_DATE: 2000 10 25
RASTER_ORDER: LEFT_RIGHT/TOP_BOTTOM
BAND_ORGANIZATION: SINGLE FILE
BAND_CONTENT: BLACK&WHITE
BAND_CONTENT: UNDEFINED
BAND_CONTENT: UNDEFINED
BITS_PER_PIXEL: 8
SAMPLES_AND_LINES: 5384 7621
HORIZONTAL_DATUM: NAD83
HORIZONTAL_COORDINATE_SYSTEM: UTM
COORDINATE_ZONE: 12
HORIZONTAL_UNITS: METERS
HORIZONTAL_RESOLUTION: 1.00000
SECONDARY_HORIZONTAL_DATUM: NAD27
XY_ORIGIN: 582747.00000 5372857.00000
SECONDARY_XY_ORIGIN: 582805.94500 5372639.36900
NATION: US
NATION: "SCIENCE
STATE: MT
NW_QUAD_CORNER_XY: 583105.18700 5372486.67400
NE_QUAD_CORNER_XY: 587722.06500 5372556.46400
SE_QUAD_CORNERY_XY: 587829.86400 5365609.45800
SW_QUAD_CORNER_XY: 583207.31200 5365539.64900
SECONDARY_NW_QUAD_XY: 583107.83000 5372267.72100
SECONDARY_NE_QUAD_XY: 587724.85400 5372337.51300
SECONDARY_SE_QUAD_XY: 587832.65300 5365390.51500
SECONDARY_SW_QUAD_XY: 583209.95400 5365320.70500
RMSE_XY: 1.70000
IMAGE_SOURCE: BLACK AND WHITE FILM
SOURCE_IMAGE_ID: NAPP 9128 204
SOURCE_IMAGE_DATE: 1996 07 29
SOURCE_DEM_DATE: 2000 01 01
AGENCY: WESTERN MAPPING CENTER (WMC)
PRODUCER: UNDEFINED
PRODUCTION_SYSTEM: GIS/MAGIC
COMPRESSION: UNDEFINED
STANDARD_VERSION: 1996 12
METADATA_DATE: 2000 11 09
DATA_FILE_SIZE: 41036848
BYTE_COUNT: 5384
