FILENAME: O4810934.NES.1119741.tif
QUADRANGLE_NAME: LAREDO NE
QUADRANT: NE
WEST_LONGITUDE: -109 48 45.00000
EAST_LONGITUDE: -109 45 0.00000
NORTH_LATITUDE: 48 30 0.00000
SOUTH_LATITUDE: 48 26 15.00000
PRODUCTION_DATE: 2000 10 25
RASTER_ORDER: LEFT_RIGHT/TOP_BOTTOM
BAND_ORGANIZATION: SINGLE FILE
BAND_CONTENT: BLACK&WHITE
BAND_CONTENT: UNDEFINED
BAND_CONTENT: UNDEFINED
BITS_PER_PIXEL: 8
SAMPLES_AND_LINES: 5390 7626
HORIZONTAL_DATUM: NAD83
HORIZONTAL_COORDINATE_SYSTEM: UTM
COORDINATE_ZONE: 12
HORIZONTAL_UNITS: METERS
HORIZONTAL_RESOLUTION: 1.00000
SECONDARY_HORIZONTAL_DATUM: NAD27
XY_ORIGIN: 587364.00000 5372931.00000
SECONDARY_XY_ORIGIN: 587422.99900 5372713.30000
NATION: US
NATION: "SCIENCE
STATE: MT
NW_QUAD_CORNER_XY: 587722.06500 5372556.46400
NE_QUAD_CORNER_XY: 592338.92900 5372630.02700
SE_QUAD_CORNERY_XY: 592452.40400 5365683.04000
SW_QUAD_CORNER_XY: 587829.86400 5365609.45800
SECONDARY_NW_QUAD_XY: 587724.85400 5372337.51300
SECONDARY_NE_QUAD_XY: 592341.86500 5372411.07900
SECONDARY_SE_QUAD_XY: 592455.34000 5365464.10000
SECONDARY_SW_QUAD_XY: 587832.65300 5365390.51500
RMSE_XY: 1.30000
IMAGE_SOURCE: BLACK AND WHITE FILM
SOURCE_IMAGE_ID: NAPP 9128 117
SOURCE_IMAGE_DATE: 1996 07 29
SOURCE_DEM_DATE: 2000 01 01
AGENCY: WESTERN MAPPING CENTER (WMC)
PRODUCER: UNDEFINED
PRODUCTION_SYSTEM: GIS/MAGIC
COMPRESSION: UNDEFINED
STANDARD_VERSION: 1996 12
METADATA_DATE: 2000 11 09
DATA_FILE_SIZE: 41109530
BYTE_COUNT: 5390
