FILENAME: O4810935.SES.1119751.tif
QUADRANGLE_NAME: CEMENT HILL
QUADRANT: SE
WEST_LONGITUDE: -109 41 15.00000
EAST_LONGITUDE: -109 37 30.00000
NORTH_LATITUDE: 48 26 15.00000
SOUTH_LATITUDE: 48 22 30.00000
PRODUCTION_DATE: 2000 10 25
RASTER_ORDER: LEFT_RIGHT/TOP_BOTTOM
BAND_ORGANIZATION: SINGLE FILE
BAND_CONTENT: BLACK&WHITE
BAND_CONTENT: UNDEFINED
BAND_CONTENT: UNDEFINED
BITS_PER_PIXEL: 8
SAMPLES_AND_LINES: 5406 7633
HORIZONTAL_DATUM: NAD83
HORIZONTAL_COORDINATE_SYSTEM: UTM
COORDINATE_ZONE: 12
HORIZONTAL_UNITS: METERS
HORIZONTAL_RESOLUTION: 1.00000
SECONDARY_HORIZONTAL_DATUM: NAD27
XY_ORIGIN: 596718.00000 5366142.00000
SECONDARY_XY_ORIGIN: 596776.96500 5365924.49200
NATION: US
NATION: "SCIENCE
STATE: MT
NW_QUAD_CORNER_XY: 597074.93100 5365760.39700
NE_QUAD_CORNER_XY: 601697.44300 5365841.52900
SE_QUAD_CORNERY_XY: 601822.14700 5358894.65500
SW_QUAD_CORNER_XY: 597193.96400 5358813.50300
SECONDARY_NW_QUAD_XY: 597078.01300 5365541.46000
SECONDARY_NE_QUAD_XY: 601700.67300 5365622.59400
SECONDARY_SE_QUAD_XY: 601825.37600 5358675.73000
SECONDARY_SW_QUAD_XY: 597197.04700 5358594.57400
RMSE_XY: 3.50000
IMAGE_SOURCE: BLACK AND WHITE FILM
SOURCE_IMAGE_ID: NAPP 9159 204
SOURCE_IMAGE_DATE: 1997 09 22
SOURCE_IMAGE_ID: NAPP 9159 205
SOURCE_IMAGE_DATE: 1997 09 22
SOURCE_IMAGE_ID: NAPP 9159 164
SOURCE_IMAGE_DATE: 1997 09 22
SOURCE_DEM_DATE: 2000 01 01
AGENCY: WESTERN MAPPING CENTER (WMC)
PRODUCER: UNDEFINED
PRODUCTION_SYSTEM: GIS/MAGIC
COMPRESSION: UNDEFINED
STANDARD_VERSION: 1996 12
METADATA_DATE: 2000 11 09
DATA_FILE_SIZE: 41269404
BYTE_COUNT: 5406
