FILENAME: O4810936.NWS.1119795.tif
QUADRANGLE_NAME: SHAMBO NE
QUADRANT: NW
WEST_LONGITUDE: -109 37 30.00000
EAST_LONGITUDE: -109 33 45.00000
NORTH_LATITUDE: 48 30 0.00000
SOUTH_LATITUDE: 48 26 15.00000
PRODUCTION_DATE: 2000 10 25
RASTER_ORDER: LEFT_RIGHT/TOP_BOTTOM
BAND_ORGANIZATION: SINGLE FILE
BAND_CONTENT: BLACK&WHITE
BAND_CONTENT: UNDEFINED
BAND_CONTENT: UNDEFINED
BITS_PER_PIXEL: 8
SAMPLES_AND_LINES: 5405 7636
HORIZONTAL_DATUM: NAD83
HORIZONTAL_COORDINATE_SYSTEM: UTM
COORDINATE_ZONE: 12
HORIZONTAL_UNITS: METERS
HORIZONTAL_RESOLUTION: 1.00000
SECONDARY_HORIZONTAL_DATUM: NAD27
XY_ORIGIN: 601216.00000 5373174.00000
SECONDARY_XY_ORIGIN: 601274.84500 5372956.26500
NATION: US
NATION: "SCIENCE
STATE: MT
NW_QUAD_CORNER_XY: 601572.61800 5372788.47400
NE_QUAD_CORNER_XY: 606189.44000 5372873.35800
SE_QUAD_CORNERY_XY: 606319.94200 5365926.43500
SW_QUAD_CORNER_XY: 601697.44300 5365841.52900
SECONDARY_NW_QUAD_XY: 601575.84700 5372569.53100
SECONDARY_NE_QUAD_XY: 606192.81700 5372654.41800
SECONDARY_SE_QUAD_XY: 606323.31800 5365707.50300
SECONDARY_SW_QUAD_XY: 601700.67300 5365622.59400
RMSE_XY: 2.30000
IMAGE_SOURCE: BLACK AND WHITE FILM
SOURCE_IMAGE_ID: NAPP 9159 087
SOURCE_IMAGE_DATE: 1997 09 22
SOURCE_IMAGE_ID: NAPP 9159 203
SOURCE_IMAGE_DATE: 1997 09 22
SOURCE_IMAGE_ID: NAPP 9159 201
SOURCE_IMAGE_DATE: 1997 09 22
SOURCE_IMAGE_ID: NAPP 9159 164
SOURCE_IMAGE_DATE: 1997 09 22
SOURCE_IMAGE_ID: NAPP 9159 166
SOURCE_IMAGE_DATE: 1997 09 22
SOURCE_DEM_DATE: 2000 01 01
AGENCY: WESTERN MAPPING CENTER (WMC)
PRODUCER: UNDEFINED
PRODUCTION_SYSTEM: GIS/MAGIC
COMPRESSION: UNDEFINED
STANDARD_VERSION: 1996 12
METADATA_DATE: 2000 11 09
DATA_FILE_SIZE: 41277985
BYTE_COUNT: 5405
