FILENAME: O4810939.SWS.1115714.tif
QUADRANGLE_NAME: CLEVELAND NW
QUADRANT: SW
WEST_LONGITUDE: -109 15 0.00000
EAST_LONGITUDE: -109 11 15.00000
NORTH_LATITUDE: 48 26 15.00000
SOUTH_LATITUDE: 48 22 30.00000
PRODUCTION_DATE: 2000 10 30
RASTER_ORDER: LEFT_RIGHT/TOP_BOTTOM
BAND_ORGANIZATION: SINGLE FILE
BAND_CONTENT: BLACK&WHITE
BAND_CONTENT: UNDEFINED
BAND_CONTENT: UNDEFINED
BITS_PER_PIXEL: 8
SAMPLES_AND_LINES: 5443 7659
HORIZONTAL_DATUM: NAD83
HORIZONTAL_COORDINATE_SYSTEM: UTM
COORDINATE_ZONE: 12
HORIZONTAL_UNITS: METERS
HORIZONTAL_RESOLUTION: 1.00000
SECONDARY_HORIZONTAL_DATUM: NAD27
XY_ORIGIN: 629077.00000 5366816.00000
SECONDARY_XY_ORIGIN: 629135.17400 5366598.74500
NATION: US
NATION: "SCIENCE
STATE: MT
NW_QUAD_CORNER_XY: 629432.19600 5366407.59600
NE_QUAD_CORNER_XY: 634054.59500 5366515.15500
SE_QUAD_CORNERY_XY: 634218.99600 5359568.45500
SW_QUAD_CORNER_XY: 629590.92600 5359460.86800
SECONDARY_NW_QUAD_XY: 629436.30600 5366188.67900
SECONDARY_NE_QUAD_XY: 634058.85200 5366296.24100
SECONDARY_SE_QUAD_XY: 634223.25300 5359349.55100
SECONDARY_SW_QUAD_XY: 629595.03600 5359241.96000
RMSE_XY: 1.60000
IMAGE_SOURCE: BLACK AND WHITE FILM
SOURCE_IMAGE_ID: NAPP 9145 044
SOURCE_IMAGE_DATE: 1996 08 25
SOURCE_DEM_DATE: 1993 00 00
AGENCY: WESTERN MAPPING CENTER (WMC)
PRODUCER: UNDEFINED
PRODUCTION_SYSTEM: GIS/MAGIC
COMPRESSION: UNDEFINED
STANDARD_VERSION: 1996 12
METADATA_DATE: 2000 11 10
DATA_FILE_SIZE: 41693380
BYTE_COUNT: 5443
