FILENAME: O4810943.NWS.1119754.tif
QUADRANGLE_NAME: BEARPAW LAKE
QUADRANT: NW
WEST_LONGITUDE: -109 45 0.00000
EAST_LONGITUDE: -109 41 15.00000
NORTH_LATITUDE: 48 22 30.00000
SOUTH_LATITUDE: 48 18 45.00000
PRODUCTION_DATE: 2000 10 25
RASTER_ORDER: LEFT_RIGHT/TOP_BOTTOM
BAND_ORGANIZATION: SINGLE FILE
BAND_CONTENT: BLACK&WHITE
BAND_CONTENT: UNDEFINED
BAND_CONTENT: UNDEFINED
BITS_PER_PIXEL: 8
SAMPLES_AND_LINES: 5406 7629
HORIZONTAL_DATUM: NAD83
HORIZONTAL_COORDINATE_SYSTEM: UTM
COORDINATE_ZONE: 12
HORIZONTAL_UNITS: METERS
HORIZONTAL_RESOLUTION: 1.00000
SECONDARY_HORIZONTAL_DATUM: NAD27
XY_ORIGIN: 592208.00000 5359114.00000
SECONDARY_XY_ORIGIN: 592267.05800 5358896.74600
NATION: US
NATION: "SCIENCE
STATE: MT
NW_QUAD_CORNER_XY: 592565.76800 5358736.12600
NE_QUAD_CORNER_XY: 597193.96400 5358813.50300
SE_QUAD_CORNERY_XY: 597312.88100 5351866.68000
SW_QUAD_CORNER_XY: 592679.02100 5351789.28300
SECONDARY_NW_QUAD_XY: 592568.70300 5358517.19500
SECONDARY_NE_QUAD_XY: 597197.04700 5358594.57400
SECONDARY_SE_QUAD_XY: 597315.96400 5351647.76200
SECONDARY_SW_QUAD_XY: 592681.95600 5351570.36300
RMSE_XY: 3.40000
IMAGE_SOURCE: BLACK AND WHITE FILM
SOURCE_IMAGE_ID: NAPP 9160 081
SOURCE_IMAGE_DATE: 1997 09 23
SOURCE_IMAGE_ID: NAPP 9160 082
SOURCE_IMAGE_DATE: 1997 09 23
SOURCE_IMAGE_ID: NAPP 9160 080
SOURCE_IMAGE_DATE: 1997 09 23
SOURCE_DEM_DATE: 2000 01 01
AGENCY: WESTERN MAPPING CENTER (WMC)
PRODUCER: UNDEFINED
PRODUCTION_SYSTEM: GIS/MAGIC
COMPRESSION: UNDEFINED
STANDARD_VERSION: 1996 12
METADATA_DATE: 2000 11 09
DATA_FILE_SIZE: 41247780
BYTE_COUNT: 5406
