FILENAME: e:\updates\vol010_q1_2001\tiles\O4810945.SWS.tif
QUADRANGLE_NAME: BARBER BUTTE
QUADRANT: SW
WEST_LONGITUDE: -109 30 0.00000
EAST_LONGITUDE: -109 26 15.00000
NORTH_LATITUDE: 48 18 45.00000
SOUTH_LATITUDE: 48 15 0.00000
PRODUCTION_DATE: 2000 10 17
RASTER_ORDER: LEFT_RIGHT/TOP_BOTTOM
BAND_ORGANIZATION: SINGLE FILE
BAND_CONTENT: BLACK&WHITE
BAND_CONTENT: UNDEFINED
BAND_CONTENT: UNDEFINED
BITS_PER_PIXEL: 8
SAMPLES_AND_LINES: 5433 7645
HORIZONTAL_DATUM: NAD83
HORIZONTAL_COORDINATE_SYSTEM: UTM
COORDINATE_ZONE: 12
HORIZONTAL_UNITS: METERS
HORIZONTAL_RESOLUTION: 1.00000
SECONDARY_HORIZONTAL_DATUM: NAD27
XY_ORIGIN: 610858.00000 5352515.00000
SECONDARY_XY_ORIGIN: 610916.80700 5352297.91800
NATION: US
NATION: "SCIENCE
STATE: MT
NW_QUAD_CORNER_XY: 611214.38100 5352121.52900
NE_QUAD_CORNER_XY: 615848.18500 5352214.03300
SE_QUAD_CORNERY_XY: 615989.62300 5345267.36900
SW_QUAD_CORNER_XY: 611350.15900 5345174.84200
SECONDARY_NW_QUAD_XY: 611217.90400 5351902.62000
SECONDARY_NE_QUAD_XY: 615851.85500 5351995.12600
SECONDARY_SE_QUAD_XY: 615993.29200 5345048.47300
SECONDARY_SW_QUAD_XY: 611353.68200 5344955.94300
RMSE_XY: 2.00000
IMAGE_SOURCE: BLACK AND WHITE FILM
SOURCE_IMAGE_ID: NAPP 9159 043
SOURCE_IMAGE_DATE: 1997 09 22
SOURCE_IMAGE_ID: NAPP 9159 042
SOURCE_IMAGE_DATE: 1997 09 22
SOURCE_DEM_DATE: 1993 00 00
AGENCY: WESTERN MAPPING CENTER (WMC)
PRODUCER: UNDEFINED
PRODUCTION_SYSTEM: GIS/MAGIC
COMPRESSION: UNDEFINED
STANDARD_VERSION: 1996 12
METADATA_DATE: 2000 11 09
DATA_FILE_SIZE: 41540718
BYTE_COUNT: 5433
