FILENAME: O4810946.NES.1115671.tif
QUADRANGLE_NAME: LLOYD
QUADRANT: NE
WEST_LONGITUDE: -109 18 45.00000
EAST_LONGITUDE: -109 15 0.00000
NORTH_LATITUDE: 48 22 30.00000
SOUTH_LATITUDE: 48 18 45.00000
PRODUCTION_DATE: 2000 10 30
RASTER_ORDER: LEFT_RIGHT/TOP_BOTTOM
BAND_ORGANIZATION: SINGLE FILE
BAND_CONTENT: BLACK&WHITE
BAND_CONTENT: UNDEFINED
BAND_CONTENT: UNDEFINED
BITS_PER_PIXEL: 8
SAMPLES_AND_LINES: 5444 7655
HORIZONTAL_DATUM: NAD83
HORIZONTAL_COORDINATE_SYSTEM: UTM
COORDINATE_ZONE: 12
HORIZONTAL_UNITS: METERS
HORIZONTAL_RESOLUTION: 1.00000
SECONDARY_HORIZONTAL_DATUM: NAD27
XY_ORIGIN: 624607.00000 5359761.00000
SECONDARY_XY_ORIGIN: 624665.37500 5359543.86400
NATION: US
NATION: "SCIENCE
STATE: MT
NW_QUAD_CORNER_XY: 624962.83700 5359357.05800
NE_QUAD_CORNER_XY: 629590.92600 5359460.86800
SE_QUAD_CORNERY_XY: 629749.50000 5352514.20900
SW_QUAD_CORNER_XY: 625115.74500 5352410.37300
SECONDARY_NW_QUAD_XY: 624966.80000 5359138.14700
SECONDARY_NE_QUAD_XY: 629595.03600 5359241.96000
SECONDARY_SE_QUAD_XY: 629753.60900 5352295.31200
SECONDARY_SW_QUAD_XY: 625119.70800 5352191.47200
RMSE_XY: 1.60000
IMAGE_SOURCE: BLACK AND WHITE FILM
SOURCE_IMAGE_ID: NAPP 9145 087
SOURCE_IMAGE_DATE: 1996 08 25
SOURCE_DEM_DATE: 1993 00 00
AGENCY: WESTERN MAPPING CENTER (WMC)
PRODUCER: UNDEFINED
PRODUCTION_SYSTEM: GIS/MAGIC
COMPRESSION: UNDEFINED
STANDARD_VERSION: 1996 12
METADATA_DATE: 2000 11 10
DATA_FILE_SIZE: 41679264
BYTE_COUNT: 5444
