FILENAME: O4810948.SWS.1115738.tif
QUADRANGLE_NAME: MILES BUTTE
QUADRANT: SW
WEST_LONGITUDE: -109 7 30.00000
EAST_LONGITUDE: -109 3 45.00000
NORTH_LATITUDE: 48 18 45.00000
SOUTH_LATITUDE: 48 15 0.00000
PRODUCTION_DATE: 2000 10 30
RASTER_ORDER: LEFT_RIGHT/TOP_BOTTOM
BAND_ORGANIZATION: SINGLE FILE
BAND_CONTENT: BLACK&WHITE
BAND_CONTENT: UNDEFINED
BAND_CONTENT: UNDEFINED
BITS_PER_PIXEL: 8
SAMPLES_AND_LINES: 5466 7667
HORIZONTAL_DATUM: NAD83
HORIZONTAL_COORDINATE_SYSTEM: UTM
COORDINATE_ZONE: 12
HORIZONTAL_UNITS: METERS
HORIZONTAL_RESOLUTION: 1.00000
SECONDARY_HORIZONTAL_DATUM: NAD27
XY_ORIGIN: 638662.00000 5353149.00000
SECONDARY_XY_ORIGIN: 638720.27300 5352932.15700
NATION: US
NATION: "SCIENCE
STATE: MT
NW_QUAD_CORNER_XY: 639016.95600 5352733.21500
NE_QUAD_CORNER_XY: 643650.65500 5352848.38500
SE_QUAD_CORNERY_XY: 643826.05800 5345901.87800
SW_QUAD_CORNER_XY: 639186.69600 5345786.67900
SECONDARY_NW_QUAD_XY: 639021.35900 5352514.32500
SECONDARY_NE_QUAD_XY: 643655.20500 5352629.49900
SECONDARY_SE_QUAD_XY: 643830.60700 5345683.00200
SECONDARY_SW_QUAD_XY: 639191.09900 5345567.80000
RMSE_XY: 1.70000
IMAGE_SOURCE: BLACK AND WHITE FILM
SOURCE_IMAGE_ID: NAPP 9129 220
SOURCE_IMAGE_DATE: 1996 07 27
SOURCE_DEM_DATE: 1993 00 00
AGENCY: WESTERN MAPPING CENTER (WMC)
PRODUCER: UNDEFINED
PRODUCTION_SYSTEM: GIS/MAGIC
COMPRESSION: UNDEFINED
STANDARD_VERSION: 1996 12
METADATA_DATE: 2000 11 10
DATA_FILE_SIZE: 41913288
BYTE_COUNT: 5466
