FILENAME: O4810950.SWS.1115163.tif
QUADRANGLE_NAME: CENTENNIAL MOUNTAIN
QUADRANT: SW
WEST_LONGITUDE: -109 52 30.00000
EAST_LONGITUDE: -109 48 45.00000
NORTH_LATITUDE: 48 11 15.00000
SOUTH_LATITUDE: 48 7 30.00000
PRODUCTION_DATE: 2000 10 25
RASTER_ORDER: LEFT_RIGHT/TOP_BOTTOM
BAND_ORGANIZATION: SINGLE FILE
BAND_CONTENT: BLACK&WHITE
BAND_CONTENT: UNDEFINED
BAND_CONTENT: UNDEFINED
BITS_PER_PIXEL: 8
SAMPLES_AND_LINES: 5412 7623
HORIZONTAL_DATUM: NAD83
HORIZONTAL_COORDINATE_SYSTEM: UTM
COORDINATE_ZONE: 12
HORIZONTAL_UNITS: METERS
HORIZONTAL_RESOLUTION: 1.00000
SECONDARY_HORIZONTAL_DATUM: NAD27
XY_ORIGIN: 583257.00000 5338123.00000
SECONDARY_XY_ORIGIN: 583315.95900 5337906.64100
NATION: US
NATION: "SCIENCE
STATE: MT
NW_QUAD_CORNER_XY: 583614.81200 5337752.28100
NE_QUAD_CORNER_XY: 588260.00800 5337822.15900
SE_QUAD_CORNERY_XY: 588367.28000 5330875.51600
SW_QUAD_CORNER_XY: 583716.43700 5330805.62100
SECONDARY_NW_QUAD_XY: 583617.45400 5337533.37900
SECONDARY_NE_QUAD_XY: 588262.79700 5337603.25900
SECONDARY_SE_QUAD_XY: 588370.06800 5330656.62900
SECONDARY_SW_QUAD_XY: 583719.07800 5330586.73200
RMSE_XY: 2.10000
IMAGE_SOURCE: BLACK AND WHITE FILM
SOURCE_IMAGE_ID: NAPP 9160 028
SOURCE_IMAGE_DATE: 1997 09 23
SOURCE_DEM_DATE: 1975 00 00
AGENCY: WESTERN MAPPING CENTER (WMC)
PRODUCER: UNDEFINED
PRODUCTION_SYSTEM: GIS/MAGIC
COMPRESSION: UNDEFINED
STANDARD_VERSION: 1996 12
METADATA_DATE: 2000 11 09
DATA_FILE_SIZE: 41261088
BYTE_COUNT: 5412
