FILENAME: O4810950.SES.1115162.tif
QUADRANGLE_NAME: CENTENNIAL MOUNTAIN
QUADRANT: SE
WEST_LONGITUDE: -109 48 45.00000
EAST_LONGITUDE: -109 45 0.00000
NORTH_LATITUDE: 48 11 15.00000
SOUTH_LATITUDE: 48 7 30.00000
PRODUCTION_DATE: 2000 10 25
RASTER_ORDER: LEFT_RIGHT/TOP_BOTTOM
BAND_ORGANIZATION: SINGLE FILE
BAND_CONTENT: BLACK&WHITE
BAND_CONTENT: UNDEFINED
BAND_CONTENT: UNDEFINED
BITS_PER_PIXEL: 8
SAMPLES_AND_LINES: 5418 7626
HORIZONTAL_DATUM: NAD83
HORIZONTAL_COORDINATE_SYSTEM: UTM
COORDINATE_ZONE: 12
HORIZONTAL_UNITS: METERS
HORIZONTAL_RESOLUTION: 1.00000
SECONDARY_HORIZONTAL_DATUM: NAD27
XY_ORIGIN: 587902.00000 5338196.00000
SECONDARY_XY_ORIGIN: 587960.99100 5337979.56100
NATION: US
NATION: "SCIENCE
STATE: MT
NW_QUAD_CORNER_XY: 588260.00800 5337822.15900
NE_QUAD_CORNER_XY: 592905.19300 5337895.81500
SE_QUAD_CORNERY_XY: 593018.11200 5330949.19000
SW_QUAD_CORNER_XY: 588367.28000 5330875.51600
SECONDARY_NW_QUAD_XY: 588262.79700 5337603.25900
SECONDARY_NE_QUAD_XY: 592908.12800 5337676.91800
SECONDARY_SE_QUAD_XY: 593021.04700 5330730.30500
SECONDARY_SW_QUAD_XY: 588370.06800 5330656.62900
RMSE_XY: 1.70000
IMAGE_SOURCE: BLACK AND WHITE FILM
SOURCE_IMAGE_ID: NAPP 9160 043
SOURCE_IMAGE_DATE: 1997 09 23
SOURCE_DEM_DATE: 1975 00 00
AGENCY: WESTERN MAPPING CENTER (WMC)
PRODUCER: UNDEFINED
PRODUCTION_SYSTEM: GIS/MAGIC
COMPRESSION: UNDEFINED
STANDARD_VERSION: 1996 12
METADATA_DATE: 2000 11 09
DATA_FILE_SIZE: 41323086
BYTE_COUNT: 5418
