FILENAME: O4810953.SWS.1119819.tif
QUADRANGLE_NAME: MADDUX
QUADRANT: SW
WEST_LONGITUDE: -109 30 0.00000
EAST_LONGITUDE: -109 26 15.00000
NORTH_LATITUDE: 48 11 15.00000
SOUTH_LATITUDE: 48 7 30.00000
PRODUCTION_DATE: 2000 10 17
RASTER_ORDER: LEFT_RIGHT/TOP_BOTTOM
BAND_ORGANIZATION: SINGLE FILE
BAND_CONTENT: BLACK&WHITE
BAND_CONTENT: UNDEFINED
BAND_CONTENT: UNDEFINED
BITS_PER_PIXEL: 8
SAMPLES_AND_LINES: 5445 7644
HORIZONTAL_DATUM: NAD83
HORIZONTAL_COORDINATE_SYSTEM: UTM
COORDINATE_ZONE: 12
HORIZONTAL_UNITS: METERS
HORIZONTAL_RESOLUTION: 1.00000
SECONDARY_HORIZONTAL_DATUM: NAD27
XY_ORIGIN: 611129.00000 5338621.00000
SECONDARY_XY_ORIGIN: 611187.86400 5338404.34200
NATION: US
NATION: "SCIENCE
STATE: MT
NW_QUAD_CORNER_XY: 611485.80400 5338228.22500
NE_QUAD_CORNER_XY: 616130.92200 5338320.77400
SE_QUAD_CORNERY_XY: 616272.08100 5331374.25000
SW_QUAD_CORNER_XY: 611621.31500 5331281.67900
SECONDARY_NW_QUAD_XY: 611489.32600 5338009.33800
SECONDARY_NE_QUAD_XY: 616134.59100 5338101.89000
SECONDARY_SE_QUAD_XY: 616275.75000 5331155.37900
SECONDARY_SW_QUAD_XY: 611624.83700 5331062.80400
RMSE_XY: 1.90000
IMAGE_SOURCE: BLACK AND WHITE FILM
SOURCE_IMAGE_ID: NAPP 9159 039
SOURCE_IMAGE_DATE: 1997 09 22
SOURCE_IMAGE_ID: NAPP 9159 096
SOURCE_IMAGE_DATE: 1997 09 22
SOURCE_IMAGE_ID: NAPP 9159 095
SOURCE_IMAGE_DATE: 1997 09 22
SOURCE_DEM_DATE: 1987 00 00
AGENCY: WESTERN MAPPING CENTER (WMC)
PRODUCER: UNDEFINED
PRODUCTION_SYSTEM: GIS/MAGIC
COMPRESSION: UNDEFINED
STANDARD_VERSION: 1996 12
METADATA_DATE: 2000 11 09
DATA_FILE_SIZE: 41627025
BYTE_COUNT: 5445
