FILENAME: O4810954.SWS.1115678.tif
QUADRANGLE_NAME: CORRIGAN MOUNTAIN
QUADRANT: SW
WEST_LONGITUDE: -109 22 30.00000
EAST_LONGITUDE: -109 18 45.00000
NORTH_LATITUDE: 48 11 15.00000
SOUTH_LATITUDE: 48 7 30.00000
PRODUCTION_DATE: 2000 10 30
RASTER_ORDER: LEFT_RIGHT/TOP_BOTTOM
BAND_ORGANIZATION: SINGLE FILE
BAND_CONTENT: BLACK&WHITE
BAND_CONTENT: UNDEFINED
BAND_CONTENT: UNDEFINED
BITS_PER_PIXEL: 8
SAMPLES_AND_LINES: 5455 7652
HORIZONTAL_DATUM: NAD83
HORIZONTAL_COORDINATE_SYSTEM: UTM
COORDINATE_ZONE: 12
HORIZONTAL_UNITS: METERS
HORIZONTAL_RESOLUTION: 1.00000
SECONDARY_HORIZONTAL_DATUM: NAD27
XY_ORIGIN: 620420.00000 5338818.00000
SECONDARY_XY_ORIGIN: 620478.65400 5338601.39400
NATION: US
NATION: "SCIENCE
STATE: MT
NW_QUAD_CORNER_XY: 620776.02400 5338417.10300
NE_QUAD_CORNER_XY: 625421.11100 5338517.21000
SE_QUAD_CORNERY_XY: 625573.56900 5331570.73300
SW_QUAD_CORNER_XY: 620922.83300 5331470.60100
SECONDARY_NW_QUAD_XY: 620779.84000 5338198.22100
SECONDARY_NE_QUAD_XY: 625425.07300 5338298.33200
SECONDARY_SE_QUAD_XY: 625577.53100 5331351.86800
SECONDARY_SW_QUAD_XY: 620926.64800 5331251.73300
RMSE_XY: 3.00000
IMAGE_SOURCE: BLACK AND WHITE FILM
SOURCE_IMAGE_ID: NAPP 9156 081
SOURCE_IMAGE_DATE: 1997 08 29
SOURCE_DEM_DATE: 1987 00 00
AGENCY: WESTERN MAPPING CENTER (WMC)
PRODUCER: UNDEFINED
PRODUCTION_SYSTEM: GIS/MAGIC
COMPRESSION: UNDEFINED
STANDARD_VERSION: 1996 12
METADATA_DATE: 2000 11 10
DATA_FILE_SIZE: 41747115
BYTE_COUNT: 5455
