FILENAME: O4810955.SWS.1115702.tif
QUADRANGLE_NAME: SCOTTY BUTTE
QUADRANT: SW
WEST_LONGITUDE: -109 15 0.00000
EAST_LONGITUDE: -109 11 15.00000
NORTH_LATITUDE: 48 11 15.00000
SOUTH_LATITUDE: 48 7 30.00000
PRODUCTION_DATE: 2000 11 10
RASTER_ORDER: LEFT_RIGHT/TOP_BOTTOM
BAND_ORGANIZATION: SINGLE FILE
BAND_CONTENT: BLACK&WHITE
BAND_CONTENT: UNDEFINED
BAND_CONTENT: UNDEFINED
BITS_PER_PIXEL: 8
SAMPLES_AND_LINES: 5466 7659
HORIZONTAL_DATUM: NAD83
HORIZONTAL_COORDINATE_SYSTEM: UTM
COORDINATE_ZONE: 12
HORIZONTAL_UNITS: METERS
HORIZONTAL_RESOLUTION: 1.00000
SECONDARY_HORIZONTAL_DATUM: NAD27
XY_ORIGIN: 629710.00000 5339029.00000
SECONDARY_XY_ORIGIN: 629768.44000 5338812.44800
NATION: US
NATION: "SCIENCE
STATE: MT
NW_QUAD_CORNER_XY: 630066.18100 5338621.09700
NE_QUAD_CORNER_XY: 634711.23500 5338728.76400
SE_QUAD_CORNERY_XY: 634874.99100 5331782.33800
SW_QUAD_CORNER_XY: 630224.28800 5331674.64500
SECONDARY_NW_QUAD_XY: 630070.29000 5338402.22300
SECONDARY_NE_QUAD_XY: 634715.49000 5338509.89300
SECONDARY_SE_QUAD_XY: 634879.24700 5331563.47900
SECONDARY_SW_QUAD_XY: 630228.39700 5331455.78300
RMSE_XY: 2.10000
IMAGE_SOURCE: BLACK AND WHITE FILM
SOURCE_IMAGE_ID: NAPP 9145 036
SOURCE_IMAGE_DATE: 1996 08 25
SOURCE_IMAGE_ID: NAPP 9145 037
SOURCE_IMAGE_DATE: 1996 08 25
SOURCE_DEM_DATE: 1987 00 00
AGENCY: WESTERN MAPPING CENTER (WMC)
PRODUCER: UNDEFINED
PRODUCTION_SYSTEM: GIS/MAGIC
COMPRESSION: UNDEFINED
STANDARD_VERSION: 1996 12
METADATA_DATE: 2000 11 29
DATA_FILE_SIZE: 41869560
BYTE_COUNT: 5466
