FILENAME: O4810955.NWS.1115700.tif
QUADRANGLE_NAME: SCOTTY BUTTE
QUADRANT: NW
WEST_LONGITUDE: -109 15 0.00000
EAST_LONGITUDE: -109 11 15.00000
NORTH_LATITUDE: 48 15 0.00000
SOUTH_LATITUDE: 48 11 15.00000
PRODUCTION_DATE: 2000 10 30
RASTER_ORDER: LEFT_RIGHT/TOP_BOTTOM
BAND_ORGANIZATION: SINGLE FILE
BAND_CONTENT: BLACK&WHITE
BAND_CONTENT: UNDEFINED
BAND_CONTENT: UNDEFINED
BITS_PER_PIXEL: 8
SAMPLES_AND_LINES: 5461 7660
HORIZONTAL_DATUM: NAD83
HORIZONTAL_COORDINATE_SYSTEM: UTM
COORDINATE_ZONE: 12
HORIZONTAL_UNITS: METERS
HORIZONTAL_RESOLUTION: 1.00000
SECONDARY_HORIZONTAL_DATUM: NAD27
XY_ORIGIN: 629552.00000 5345976.00000
SECONDARY_XY_ORIGIN: 629610.38000 5345759.25700
NATION: US
NATION: "SCIENCE
STATE: MT
NW_QUAD_CORNER_XY: 629907.91800 5345567.61900
NE_QUAD_CORNER_XY: 634547.31600 5345675.26000
SE_QUAD_CORNERY_XY: 634711.23500 5338728.76400
SW_QUAD_CORNER_XY: 630066.18100 5338621.09700
SECONDARY_NW_QUAD_XY: 629912.02800 5345348.73200
SECONDARY_NE_QUAD_XY: 634551.57300 5345456.37600
SECONDARY_SE_QUAD_XY: 634715.49000 5338509.89300
SECONDARY_SW_QUAD_XY: 630070.29000 5338402.22300
RMSE_XY: 1.70000
IMAGE_SOURCE: BLACK AND WHITE FILM
SOURCE_IMAGE_ID: NAPP 9145 038
SOURCE_IMAGE_DATE: 1996 08 25
SOURCE_DEM_DATE: 1987 00 00
AGENCY: WESTERN MAPPING CENTER (WMC)
PRODUCER: UNDEFINED
PRODUCTION_SYSTEM: GIS/MAGIC
COMPRESSION: UNDEFINED
STANDARD_VERSION: 1996 12
METADATA_DATE: 2000 11 29
DATA_FILE_SIZE: 41836721
BYTE_COUNT: 5461
