FILENAME: O4810956.SWS.1115726.tif
QUADRANGLE_NAME: SUCTION BUTTE
QUADRANT: SW
WEST_LONGITUDE: -109 7 30.00000
EAST_LONGITUDE: -109 3 45.00000
NORTH_LATITUDE: 48 11 15.00000
SOUTH_LATITUDE: 48 7 30.00000
PRODUCTION_DATE: 2000 10 30
RASTER_ORDER: LEFT_RIGHT/TOP_BOTTOM
BAND_ORGANIZATION: SINGLE FILE
BAND_CONTENT: BLACK&WHITE
BAND_CONTENT: UNDEFINED
BAND_CONTENT: UNDEFINED
BITS_PER_PIXEL: 8
SAMPLES_AND_LINES: 5477 7667
HORIZONTAL_DATUM: NAD83
HORIZONTAL_COORDINATE_SYSTEM: UTM
COORDINATE_ZONE: 12
HORIZONTAL_UNITS: METERS
HORIZONTAL_RESOLUTION: 1.00000
SECONDARY_HORIZONTAL_DATUM: NAD27
XY_ORIGIN: 639001.00000 5339256.00000
SECONDARY_XY_ORIGIN: 639059.42800 5339039.48100
NATION: US
NATION: "SCIENCE
STATE: MT
NW_QUAD_CORNER_XY: 639356.27000 5338840.21100
NE_QUAD_CORNER_XY: 644001.28700 5338955.43800
SE_QUAD_CORNERY_XY: 644176.34500 5332009.06600
SW_QUAD_CORNER_XY: 639525.67700 5331893.81100
SECONDARY_NW_QUAD_XY: 639360.67300 5338621.34400
SECONDARY_NE_QUAD_XY: 644005.83700 5338736.57400
SECONDARY_SE_QUAD_XY: 644180.89400 5331790.21400
SECONDARY_SW_QUAD_XY: 639530.07900 5331674.95600
RMSE_XY: 1.90000
IMAGE_SOURCE: BLACK AND WHITE FILM
SOURCE_IMAGE_ID: NAPP 9129 216
SOURCE_IMAGE_DATE: 1996 07 27
SOURCE_IMAGE_ID: NAPP 9129 217
SOURCE_IMAGE_DATE: 1996 07 27
SOURCE_DEM_DATE: 1987 00 00
AGENCY: WESTERN MAPPING CENTER (WMC)
PRODUCER: UNDEFINED
PRODUCTION_SYSTEM: GIS/MAGIC
COMPRESSION: UNDEFINED
STANDARD_VERSION: 1996 12
METADATA_DATE: 2000 11 29
DATA_FILE_SIZE: 41997636
BYTE_COUNT: 5477
