FILENAME: O4810956.NES.1115723.tif
QUADRANGLE_NAME: SUCTION BUTTE
QUADRANT: NE
WEST_LONGITUDE: -109 3 45.00000
EAST_LONGITUDE: -109 0 0.00000
NORTH_LATITUDE: 48 15 0.00000
SOUTH_LATITUDE: 48 11 15.00000
PRODUCTION_DATE: 2000 10 30
RASTER_ORDER: LEFT_RIGHT/TOP_BOTTOM
BAND_ORGANIZATION: SINGLE FILE
BAND_CONTENT: BLACK&WHITE
BAND_CONTENT: UNDEFINED
BAND_CONTENT: UNDEFINED
BITS_PER_PIXEL: 8
SAMPLES_AND_LINES: 5477 7670
HORIZONTAL_DATUM: NAD83
HORIZONTAL_COORDINATE_SYSTEM: UTM
COORDINATE_ZONE: 12
HORIZONTAL_UNITS: METERS
HORIZONTAL_RESOLUTION: 1.00000
SECONDARY_HORIZONTAL_DATUM: NAD27
XY_ORIGIN: 643471.00000 5346321.00000
SECONDARY_XY_ORIGIN: 643529.34500 5346104.34700
NATION: US
NATION: "SCIENCE
STATE: MT
NW_QUAD_CORNER_XY: 643826.05800 5345901.87800
NE_QUAD_CORNER_XY: 648465.40000 5346020.85700
SE_QUAD_CORNERY_XY: 648646.28600 5339074.44600
SW_QUAD_CORNER_XY: 644001.28700 5338955.43800
SECONDARY_NW_QUAD_XY: 643830.60700 5345683.00200
SECONDARY_NE_QUAD_XY: 648470.09600 5345801.98500
SECONDARY_SE_QUAD_XY: 648650.98200 5338855.58600
SECONDARY_SW_QUAD_XY: 644005.83700 5338736.57400
RMSE_XY: 1.40000
IMAGE_SOURCE: BLACK AND WHITE FILM
SOURCE_IMAGE_ID: NAPP 9129 020
SOURCE_IMAGE_DATE: 1996 07 27
SOURCE_DEM_DATE: 1987 00 00
AGENCY: WESTERN MAPPING CENTER (WMC)
PRODUCER: UNDEFINED
PRODUCTION_SYSTEM: GIS/MAGIC
COMPRESSION: UNDEFINED
STANDARD_VERSION: 1996 12
METADATA_DATE: 2000 11 29
DATA_FILE_SIZE: 42014067
BYTE_COUNT: 5477
