FILENAME: O4810957.SWS.1080062.tif
QUADRANGLE_NAME: STUDHORSE BUTTE
QUADRANT: SW
WEST_LONGITUDE: -110 0 0.00000
EAST_LONGITUDE: -109 56 15.00000
NORTH_LATITUDE: 48 3 45.00000
SOUTH_LATITUDE: 48 0 0.00000
PRODUCTION_DATE: 2000 6 1
RASTER_ORDER: LEFT_RIGHT/TOP_BOTTOM
BAND_ORGANIZATION: SINGLE FILE
BAND_CONTENT: BLACK&WHITE
BAND_CONTENT: UNDEFINED
BAND_CONTENT: UNDEFINED
BITS_PER_PIXEL: 8
SAMPLES_AND_LINES: 5412 7615
HORIZONTAL_DATUM: NAD83
HORIZONTAL_COORDINATE_SYSTEM: UTM
COORDINATE_ZONE: 12
HORIZONTAL_UNITS: METERS
HORIZONTAL_RESOLUTION: 1.00000
SECONDARY_HORIZONTAL_DATUM: NAD27
XY_ORIGIN: 574147.00000 5324093.00000
SECONDARY_XY_ORIGIN: 574205.83900 5323877.20700
NATION: US
NATION: "SCIENCE
STATE: MT
NW_QUAD_CORNER_XY: 574504.96000 5323730.55200
NE_QUAD_CORNER_XY: 579161.46600 5323792.90300
SE_QUAD_CORNERY_XY: 579257.25300 5316846.37500
SW_QUAD_CORNER_XY: 574595.11200 5316784.00900
SECONDARY_NW_QUAD_XY: 574507.30800 5323511.67200
SECONDARY_NE_QUAD_XY: 579163.96000 5323574.02600
SECONDARY_SE_QUAD_XY: 579259.74800 5316627.51100
SECONDARY_SW_QUAD_XY: 574597.46000 5316565.14300
RMSE_XY: 0.90000
IMAGE_SOURCE: BLACK AND WHITE FILM
SOURCE_IMAGE_ID: NAPP 9158 019
SOURCE_IMAGE_DATE: 1997 09 04
SOURCE_IMAGE_ID: NAPP 9158 020
SOURCE_IMAGE_DATE: 1997 09 04
SOURCE_IMAGE_ID: NAPP 9128 256
SOURCE_IMAGE_DATE: 1996 07 29
SOURCE_IMAGE_ID: NAPP 9128 254
SOURCE_IMAGE_DATE: 1996 07 29
SOURCE_DEM_DATE: 1975 00 00
AGENCY: WESTERN MAPPING CENTER (WMC)
PRODUCER: UNDEFINED
PRODUCTION_SYSTEM: GIS/MAGIC
COMPRESSION: UNDEFINED
STANDARD_VERSION: 1996 12
METADATA_DATE: 2000 06 12
DATA_FILE_SIZE: 41217792
BYTE_COUNT: 5412
