FILENAME: O4810957.SES.1080061.tif
QUADRANGLE_NAME: STUDHORSE BUTTE
QUADRANT: SE
WEST_LONGITUDE: -109 56 15.00000
EAST_LONGITUDE: -109 52 30.00000
NORTH_LATITUDE: 48 3 45.00000
SOUTH_LATITUDE: 48 0 0.00000
PRODUCTION_DATE: 2000 6 1
RASTER_ORDER: LEFT_RIGHT/TOP_BOTTOM
BAND_ORGANIZATION: SINGLE FILE
BAND_CONTENT: BLACK&WHITE
BAND_CONTENT: UNDEFINED
BAND_CONTENT: UNDEFINED
BITS_PER_PIXEL: 8
SAMPLES_AND_LINES: 5417 7619
HORIZONTAL_DATUM: NAD83
HORIZONTAL_COORDINATE_SYSTEM: UTM
COORDINATE_ZONE: 12
HORIZONTAL_UNITS: METERS
HORIZONTAL_RESOLUTION: 1.00000
SECONDARY_HORIZONTAL_DATUM: NAD27
XY_ORIGIN: 578804.00000 5324160.00000
SECONDARY_XY_ORIGIN: 578862.86600 5323944.13200
NATION: US
NATION: "SCIENCE
STATE: MT
NW_QUAD_CORNER_XY: 579161.46600 5323792.90300
NE_QUAD_CORNER_XY: 583817.96100 5323859.03500
SE_QUAD_CORNERY_XY: 583919.38500 5316912.52100
SW_QUAD_CORNER_XY: 579257.25300 5316846.37500
SECONDARY_NW_QUAD_XY: 579163.96000 5323574.02600
SECONDARY_NE_QUAD_XY: 583820.60200 5323640.15900
SECONDARY_SE_QUAD_XY: 583922.02600 5316693.66000
SECONDARY_SW_QUAD_XY: 579259.74800 5316627.51100
RMSE_XY: 1.00000
IMAGE_SOURCE: BLACK AND WHITE FILM
SOURCE_IMAGE_ID: NAPP 9128 255
SOURCE_IMAGE_DATE: 1996 07 29
SOURCE_IMAGE_ID: NAPP 9128 256
SOURCE_IMAGE_DATE: 1996 07 29
SOURCE_IMAGE_ID: NAPP 9128 254
SOURCE_IMAGE_DATE: 1996 07 29
SOURCE_DEM_DATE: 1975 00 00
AGENCY: WESTERN MAPPING CENTER (WMC)
PRODUCER: UNDEFINED
PRODUCTION_SYSTEM: GIS/MAGIC
COMPRESSION: UNDEFINED
STANDARD_VERSION: 1996 12
METADATA_DATE: 2000 06 12
DATA_FILE_SIZE: 41277540
BYTE_COUNT: 5417
