FILENAME: O4810957.NWS.1080060.tif
QUADRANGLE_NAME: STUDHORSE BUTTE
QUADRANT: NW
WEST_LONGITUDE: -110 0 0.00000
EAST_LONGITUDE: -109 56 15.00000
NORTH_LATITUDE: 48 7 30.00000
SOUTH_LATITUDE: 48 3 45.00000
PRODUCTION_DATE: 2000 6 1
RASTER_ORDER: LEFT_RIGHT/TOP_BOTTOM
BAND_ORGANIZATION: SINGLE FILE
BAND_CONTENT: BLACK&WHITE
BAND_CONTENT: UNDEFINED
BAND_CONTENT: UNDEFINED
BITS_PER_PIXEL: 8
SAMPLES_AND_LINES: 5406 7615
HORIZONTAL_DATUM: NAD83
HORIZONTAL_COORDINATE_SYSTEM: UTM
COORDINATE_ZONE: 12
HORIZONTAL_UNITS: METERS
HORIZONTAL_RESOLUTION: 1.00000
SECONDARY_HORIZONTAL_DATUM: NAD27
XY_ORIGIN: 574057.00000 5331040.00000
SECONDARY_XY_ORIGIN: 574115.86800 5330824.00400
NATION: US
NATION: "SCIENCE
STATE: MT
NW_QUAD_CORNER_XY: 574414.71800 5330677.16800
NE_QUAD_CORNER_XY: 579065.58300 5330739.50600
SE_QUAD_CORNERY_XY: 579161.46600 5323792.90300
SW_QUAD_CORNER_XY: 574504.96000 5323730.55200
SECONDARY_NW_QUAD_XY: 574417.06600 5330458.27500
SECONDARY_NE_QUAD_XY: 579068.07700 5330520.61400
SECONDARY_SE_QUAD_XY: 579163.96000 5323574.02600
SECONDARY_SW_QUAD_XY: 574507.30800 5323511.67200
RMSE_XY: 1.20000
IMAGE_SOURCE: BLACK AND WHITE FILM
SOURCE_IMAGE_ID: NAPP 9158 021
SOURCE_IMAGE_DATE: 1997 09 04
SOURCE_IMAGE_ID: NAPP 9158 020
SOURCE_IMAGE_DATE: 1997 09 04
SOURCE_IMAGE_ID: NAPP 9158 022
SOURCE_IMAGE_DATE: 1997 09 04
SOURCE_DEM_DATE: 1975 00 00
AGENCY: WESTERN MAPPING CENTER (WMC)
PRODUCER: UNDEFINED
PRODUCTION_SYSTEM: GIS/MAGIC
COMPRESSION: UNDEFINED
STANDARD_VERSION: 1996 12
METADATA_DATE: 2000 06 12
DATA_FILE_SIZE: 41172096
BYTE_COUNT: 5406
